Workbook
Name 일람표: [1]과정일람표!$A$6:$AO$211

Sheet 1.인프라지원금
A1: □ 2025년도 지역〮산업 맞춤형 인력양성사업 정부지원금 신청내역
A2: ○ 인자위명 : ○ 공동훈련센터명 :
A3: ★ 문구 및 양식 절대 변경 금지(산식 있음) ★ 노란셀의 "숫자"만 작성 - 현재 숫자는 예시이므로 반드시 삭제하고 재작성 요망 ★ "조정금액(B)" 및 "승인 금액(A+B)"란은 심사시 활용
A4: 구 분 | F4: 신청 금액(A) | J4: 조정 금액(B) | M4: 승인 금액(A+B)
F5: 합계(원) | G5: 정부지원금(원) | H5: 대응투자금(원) | I5: 대응 비율(%) | J5: 정부지원금(원) | K5: 대응투자금(원) | L5: 조정사유 | M5: 합계(원) | N5: 정부지원금(원) | O5: 대응투자금(원) | P5: 대응 비율(%)
A6: 합계(A+B+C) | F6: =F7+F13+F16 -> 271000000 | G6: =G7+G13+G16 -> 229000000 | H6: =H7+H13+H16 -> 42000000 | J6: =J7+J13+J16 -> 0 | K6: =K7+K13+K16 -> 0 | M6: =M7+M13+M16 -> 271000000 | N6: =N7+N13+N16 -> 229000000 | O6: =O7+O13+O16 -> 42000000
A7: 운영비 | B7: 소계(A) | F7: =F8+F10 -> 258000000 | G7: =G8+G10 -> 218000000 | H7: =H8+H10 -> 40000000 | J7: =J8+J10 -> 0 | K7: =K8+K10 -> 0 | M7: =M8+M10 -> 258000000 | N7: =N8+N10 -> 218000000 | O7: =O8+O10 -> 40000000
B8: 인건비 | C8: 소계 | F8: =F9 -> 200000000 | G8: =G9 -> 160000000 | H8: =H9 -> 40000000 | I8: =H8/F8 -> 0.2 | J8: =J9 -> 0 | K8: =K9 -> 0 | M8: =M9 -> 200000000 | N8: =N9 -> 160000000 | O8: =O9 -> 40000000 | P8: =O8/M8 -> 0.2
C9: 수료 실적 | D9: 평균(연)인원 /전담자수 | E9: 평균(연)인원 2,419명/ 4명 | F9: =G9+H9 -> 200000000 | G9: 160000000 | H9: 40000000 | M9: =N9+O9 -> 200000000 | N9: =G9+J9 -> 160000000 | O9: =H9+K9 -> 40000000
B10: 일반 운영비 | C10: 소계 | F10: =SUM(F11:F12) -> 58000000 | G10: =SUM(G11:G12) -> 58000000 | H10: =SUM(H11:H12) -> 0 | J10: =SUM(J11:J12) -> 0 | K10: =SUM(K11:K12) -> 0 | M10: =SUM(M11:M12) -> 58000000 | N10: =SUM(N11:N12) -> 58000000 | O10: =SUM(O11:O12) -> 0
C11: 기본 | D11: 계획인원 | E11: 600명 | F11: =G11+H11 -> 30000000 | G11: 30000000 | H11: 0 | M11: =N11+O11 -> 30000000 | N11: =G11+J11 -> 30000000
C12: 추가금 (과정당 2백, 최대 3천) | D12: 지산맞 과정수 | E12: 14개 | F12: =G12+H12 -> 28000000 | G12: 28000000 | H12: 0 | M12: =N12+O12 -> 28000000 | N12: =G12+J12 -> 28000000
A13: 훈련시설 및 장비비 | B13: 소계(B) | F13: =SUM(F14:F15) -> 10000000 | G13: =SUM(G14:G15) -> 8000000 | H13: =SUM(H14:H15) -> 2000000 | I13: =H13/F13 -> 0.2 | J13: =SUM(J14:J15) -> 0 | K13: =SUM(K14:K15) -> 0 | M13: =SUM(M14:M15) -> 10000000 | N13: =SUM(N14:N15) -> 8000000 | O13: =SUM(O14:O15) -> 2000000 | P13: =O13/M13 -> 0.2
B14: 훈련시설비 | F14: =G14+H14 -> 0 | G14: 0 | H14: 0 | M14: =N14+O14 -> 0 | N14: =G14+J14 -> 0 | O14: =H14+K14 -> 0
B15: 훈련장비비 | F15: =G15+H15 -> 10000000 | G15: 8000000 | H15: 2000000 | M15: =N15+O15 -> 10000000 | N15: =G15+J15 -> 8000000 | O15: =H15+K15 -> 2000000
A16: 프로그램 개발비 | B16: 소계(C) | F16: =F17 -> 3000000 | G16: =G17 -> 3000000 | H16: =H17 -> 0 | J16: =J17 -> 0 | K16: =K17 -> 0 | M16: =M17 -> 3000000 | N16: =N17 -> 3000000 | O16: =O17 -> 0
B17: 프로그램개발비 | F17: =G17+H17 -> 3000000 | G17: 3000000 | M17: =N17+O17 -> 3000000 | N17: =G17+J17 -> 3000000

Sheet 2.훈련과정 일람표
A1: □ 2024년도 훈련과정 일람표
A2: ★ 양식 수정 금지/ 붉은색 셀은 미작성(산식 있음) ★ 연번 및 과정명은 사업계획서 및 이하 엑셀시트와 일치할 것 ★ "파트너 및 유급훈련"은 반드시 '훈련과정명"의 앞에 (파트너) 및 (유급) 표기 요망 - 위 과정 이외는 과정명에 괄호( ) 사용 지양 ★ 과정 구분(일반/신산업/지역특화)은 중복되더라도 하나만 선택
A4: 연번 | B4: 지역 | C4: 공동훈련센터명 | D4: 훈련기관명 | E4: KECO세분류 | F4: 대분류 | G4: 중분류 | H4: 소분류 | I4: 세분류 | J4: NCS중분류 | K4: 대분류 | L4: 중분류 | M4: 소분류 | N4: 세분류 | O4: 훈련수준 | P4: 훈련과정명 * "파트너 및 유급" 과정은 과정명 앞에 괄호로 표기 요망 | Q4: 훈련형태 (향상/ 채용예정자) | R4: 훈련 방법 | S4: 과정 구분 (일반/신산업/지역특화) | T4: 훈련 일수 | U4: 훈련 시간① | V4: 훈련 인원② | W4: 개설 횟수③ | X4: 연인원 (②x③) | Y4: 평균훈련인원 [(①x②x ③)/8] | Z4: 기준 단가 | AA4: 훈련 단가 | AB4: 추가 지원율 | AC4: 훈련비 | AD4: 숙식비 | AE4: 훈련수당 | AF4: 임금 | AG4: 총훈련비용 | AH4: NCS 적용여부 (O/X)
W5: =SUM(W7:W25) -> 5 | X5: =SUM(X6:X25) -> 135 | Y5: =SUM(Y6:Y25) -> 2875 | AC5: =SUM(AC7:AC25) -> 177611259 | AD5: =SUM(AD7:AD25) -> 11125000 | AE5: =SUM(AE7:AE25) -> 20000000 | AF5: =SUM(AF7:AF25) -> 10000000 | AG5: =SUM(AG6:AG25) -> 236502451
A6: 1 | B6: 서울 | C6: 공동훈련센터명(HRD-Net과 동일) | D6: 공둥훈련센터명 or 파트너훈련기관명(HRD-Net과 동일) | J6: 1903 | K6: 19 | L6: 03 | M6: 06 | N6: 01 | O6: 6 | P6: 00000000000000000 | Q6: 향상 | R6: 집체 | S6: 신산업 | T6: 3 | U6: 30 | V6: 20 | W6: 2 | X6: =V6*W6 -> 40 | Y6: =U6*V6*W6/8 -> 150 | Z6: 6850 | AA6: =ROUNDDOWN(AC6/U6/X6,0) -> 14305 | AB6: =AA6/Z6*100 -> 208.83212 | AC6: 17166192 | AD6: 600000 | AE6: 0 | AF6: 0 | AG6: =AC6+AD6+AE6+AF6 -> 17766192 | AH6: X
A7: 2 | B7: 서울 | C7: 공동훈련센터명(HRD-Net과 동일) | D7: 공둥훈련센터명 or 파트너훈련기관명(HRD-Net과 동일) | J7: 1501 | K7: 15 | L7: 01 | M7: 02 | N7: 01 | O7: 4 | P7: (파트너) 00000000000 | Q7: 채용예정자 | R7: 집체 | S7: 일반 | T7: 60 | U7: 400 | V7: 25 | W7: 2 | X7: =V7*W7 -> 50 | Y7: =U7*V7*W7/8 -> 2500 | Z7: 6530 | AA7: =ROUNDDOWN(AC7/U7/X7,0) -> 7689 | AB7: =AA7/Z7*100 -> 117.74885 | AC7: 153785479 | AD7: 10000000 | AE7: 20000000 | AF7: 0 | AG7: =AC7+AD7+AE7+AF7 -> 183785479 | AH7: O
A8: 3 | B8: 서울 | C8: 공동훈련센터명(HRD-Net과 동일) | D8: 공둥훈련센터명 or 파트너훈련기관명(HRD-Net과 동일) | J8: 1601 | K8: 16 | L8: 01 | M8: 05 | N8: 01 | O8: 4 | P8: (유급) 0000000000 | Q8: 향상 | R8: 집체 | S8: 지역특화 | T8: 5 | U8: 40 | V8: 15 | W8: 3 | X8: =V8*W8 -> 45 | Y8: =U8*V8*W8/8 -> 225 | Z8: 7250 | AA8: =ROUNDDOWN(AC8/U8/X8,0) -> 13236 | AB8: =AA8/Z8*100 -> 182.56552 | AC8: 23825780 | AD8: 1125000 | AE8: 0 | AF8: 10000000 | AG8: =AC8+AD8+AE8+AF8 -> 34950780 | AH8: O
A9: 4 | X9: =V9*W9 -> 0 | Y9: =U9*V9*W9/8 -> 0 | AA9: =ROUNDDOWN(AC9/U9/X9,0) -> #DIV/0! | AB9: =AA9/Z9*100 -> #DIV/0! | AG9: =AC9+AD9+AE9+AF9 -> 0
A10: 5 | X10: =V10*W10 -> 0 | Y10: =U10*V10*W10/8 -> 0 | AA10: =ROUNDDOWN(AC10/U10/X10,0) -> #DIV/0! | AB10: =AA10/Z10*100 -> #DIV/0! | AG10: =AC10+AD10+AE10+AF10 -> 0
A11: 6 | X11: =V11*W11 -> 0 | Y11: =U11*V11*W11/8 -> 0 | AA11: =ROUNDDOWN(AC11/U11/X11,0) -> #DIV/0! | AB11: =AA11/Z11*100 -> #DIV/0! | AG11: =AC11+AD11+AE11+AF11 -> 0
A12: 7 | X12: =V12*W12 -> 0 | Y12: =U12*V12*W12/8 -> 0 | AA12: =ROUNDDOWN(AC12/U12/X12,0) -> #DIV/0! | AB12: =AA12/Z12*100 -> #DIV/0! | AG12: =AC12+AD12+AE12+AF12 -> 0
A13: 8 | X13: =V13*W13 -> 0 | Y13: =U13*V13*W13/8 -> 0 | AA13: =ROUNDDOWN(AC13/U13/X13,0) -> #DIV/0! | AB13: =AA13/Z13*100 -> #DIV/0! | AG13: =AC13+AD13+AE13+AF13 -> 0
A14: 9 | X14: =V14*W14 -> 0 | Y14: =U14*V14*W14/8 -> 0 | AA14: =ROUNDDOWN(AC14/U14/X14,0) -> #DIV/0! | AB14: =AA14/Z14*100 -> #DIV/0! | AG14: =AC14+AD14+AE14+AF14 -> 0
A15: 10 | X15: =V15*W15 -> 0 | Y15: =U15*V15*W15/8 -> 0 | AA15: =ROUNDDOWN(AC15/U15/X15,0) -> #DIV/0! | AB15: =AA15/Z15*100 -> #DIV/0! | AG15: =AC15+AD15+AE15+AF15 -> 0
A16: 11 | X16: =V16*W16 -> 0 | Y16: =U16*V16*W16/8 -> 0 | AA16: =ROUNDDOWN(AC16/U16/X16,0) -> #DIV/0! | AB16: =AA16/Z16*100 -> #DIV/0! | AG16: =AC16+AD16+AE16+AF16 -> 0
A17: 12 | X17: =V17*W17 -> 0 | Y17: =U17*V17*W17/8 -> 0 | AA17: =ROUNDDOWN(AC17/U17/X17,0) -> #DIV/0! | AB17: =AA17/Z17*100 -> #DIV/0! | AG17: =AC17+AD17+AE17+AF17 -> 0
A18: 13 | X18: =V18*W18 -> 0 | Y18: =U18*V18*W18/8 -> 0 | AA18: =ROUNDDOWN(AC18/U18/X18,0) -> #DIV/0! | AB18: =AA18/Z18*100 -> #DIV/0! | AG18: =AC18+AD18+AE18+AF18 -> 0
A19: 14 | X19: =V19*W19 -> 0 | Y19: =U19*V19*W19/8 -> 0 | AA19: =ROUNDDOWN(AC19/U19/X19,0) -> #DIV/0! | AB19: =AA19/Z19*100 -> #DIV/0! | AG19: =AC19+AD19+AE19+AF19 -> 0
A20: 15 | X20: =V20*W20 -> 0 | Y20: =U20*V20*W20/8 -> 0 | AA20: =ROUNDDOWN(AC20/U20/X20,0) -> #DIV/0! | AB20: =AA20/Z20*100 -> #DIV/0! | AG20: =AC20+AD20+AE20+AF20 -> 0
... A25: 20 | X25: =V25*W25 -> 0 | Y25: =U25*V25*W25/8 -> 0 | AA25: =ROUNDDOWN(AC25/U25/X25,0) -> #DIV/0! | AB25: =AA25/Z25*100 -> #DIV/0! | AG25: =AC25+AD25+AE25+AF25 -> 0

Sheet 3.훈련비용(총괄)
A1: □ 훈련비용 신청내역(총괄)
A2: ○ 인자위명 : ○ 공동훈련센터명 :
A3: ★ 훈련과정별 세부 조정내역이 작성되면 자동 작성됨 ★ 문구 및 양식 절대 변경 금지(산식 있음) ★ 노란셀의 "과정명과 숫자"만 작성 - 현재 숫자는 예시이므로 반드시 삭제하고 재작성 요망 ★ "조정금액(B)" 및 "승인 금액(A+B)"란은 심사시 활용
A4: 연번 | B4: 훈련과정명 | C4: 훈련 시간 | D4: 훈련 인원 (연인원) | E4: 신청 금액(A) | K4: 조정 금액(B) | O4: 승인 금액(A+B)
E5: 계 | F5: 훈련비 | G5: 숙식비 | H5: 수당 | I5: 임금 | J5: 훈련단가 | K5: 훈련비 | L5: 숙식비 | M5: 수당 | N5: 임금 | O5: 계 | P5: 훈련비 | Q5: 숙식비 | R5: 수당 | S5: 임금 | T5: 훈련단가
A6: 합계 | E6: =SUM(F6:I6) -> 569551952 | F6: =SUM(F7:F37) -> 530351952 | G6: =SUM(G7:G37) -> 18200000 | H6: =SUM(H7:H37) -> 9000000 | I6: =SUM(I7:I37) -> 12000000 | K6: =SUM(K7:K37) -> 0 | L6: =SUM(L7:L37) -> 0 | M6: =SUM(M7:M37) -> 0 | N6: =SUM(N7:N37) -> 0 | O6: =SUM(P6:S6) -> 569551952 | P6: =SUM(P7:P37) -> 530351952 | Q6: =SUM(Q7:Q37) -> 18200000 | R6: =SUM(R7:R37) -> 9000000 | S6: =SUM(S7:S37) -> 12000000
A7: 1 | B7: =INDEX('4.훈련과정별'!$B$5:$I$1985,MATCH($A7,'4.훈련과정별'!$B$5:$B$1985,0),2) -> 열역학 | C7: =INDEX('4.훈련과정별'!$B$5:$I$1985,MATCH($A7,'4.훈련과정별'!$B$5:$B$1985,0),6) -> 30 | D7: =INDEX('4.훈련과정별'!$B$5:$J$1985,MATCH($A7,'4.훈련과정별'!$B$5:$B$1985,0),9) -> 50 | E7: =SUM(F7:I7) -> 18466192 | F7: =INDEX('4.훈련과정별'!$A$17:$L$1985,MATCH($A7&F$5,'4.훈련과정별'!$A$17:$A$1985,0),9) -> 17166192 | G7: =INDEX('4.훈련과정별'!$A$17:$L$1985,MATCH($A7&"식비",'4.훈련과정별'!$A$17:$A$1985,0),9)+INDEX('4.훈련과정별'!$A$17:$L$1985,MATCH($A7&"숙박비",'4.훈련과정별'!$A$17:$A$1985,0),9) -> 600000 | H7: =INDEX('4.훈련과정별'!$A$17:$L$1985,MATCH($A7&H$5,'4.훈련과정별'!$A$17:$A$1985,0),9) -> 300000 | I7: =INDEX('4.훈련과정별'!$A$17:$L$1985,MATCH($A7&I$5,'4.훈련과정별'!$A$17:$A$1985,0),9) -> 400000 | J7: =ROUNDDOWN(F7/C7/D7,0) -> 11444 | K7: =INDEX('4.훈련과정별'!$A$17:$L$1985,MATCH($A7&K$5,'4.훈련과정별'!$A$17:$A$1985,0),10) -> 0 | L7: =INDEX('4.훈련과정별'!$A$17:$L$1985,MATCH($A7&"식비",'4.훈련과정별'!$A$17:$A$1985,0),10)+INDEX('4.훈련과정별'!$A$17:$L$1985,MATCH($A7&"숙박비",'4.훈련과정별'!$A$17:$A$1985,0),10) -> 0 | M7: =INDEX('4.훈련과정별'!$A$17:$L$1985,MATCH($A7&M$5,'4.훈련과정별'!$A$17:$A$1985,0),10) -> 0 | N7: =INDEX('4.훈련과정별'!$A$17:$L$1985,MATCH($A7&N$5,'4.훈련과정별'!$A$17:$A$1985,0),10) -> 0 | O7: =SUM(P7:S7) -> 18466192 | P7: =F7+K7 -> 17166192 | Q7: =G7+L7 -> 600000 | R7: =H7+M7 -> 300000 | S7: =I7+N7 -> 400000 | T7: =ROUNDDOWN(P7/C7/D7,0) -> 11444
A8: 2 | B8: =INDEX('4.훈련과정별'!$B$5:$I$1985,MATCH($A8,'4.훈련과정별'!$B$5:$B$1985,0),2) -> 유체역학 | C8: =INDEX('4.훈련과정별'!$B$5:$I$1985,MATCH($A8,'4.훈련과정별'!$B$5:$B$1985,0),6) -> 30 | D8: =INDEX('4.훈련과정별'!$B$5:$J$1985,MATCH($A8,'4.훈련과정별'!$B$5:$B$1985,0),9) -> 40 | E8: =SUM(F8:I8) -> 18466192 | F8: =INDEX('4.훈련과정별'!$A$17:$L$1985,MATCH($A8&F$5,'4.훈련과정별'!$A$17:$A$1985,0),9) -> 17166192 | G8: =INDEX('4.훈련과정별'!$A$17:$L$1985,MATCH($A8&"식비",'4.훈련과정별'!$A$17:$A$1985,0),9)+INDEX('4.훈련과정별'!$A$17:$L$1985,MATCH($A8&"숙박비",'4.훈련과정별'!$A$17:$A$1985,0),9) -> 600000 | H8: =INDEX('4.훈련과정별'!$A$17:$L$1985,MATCH($A8&H$5,'4.훈련과정별'!$A$17:$A$1985,0),9) -> 300000 | I8: =INDEX('4.훈련과정별'!$A$17:$L$1985,MATCH($A8&I$5,'4.훈련과정별'!$A$17:$A$1985,0),9) -> 400000 | J8: =ROUNDDOWN(F8/C8/D8,0) -> 14305 | K8: =INDEX('4.훈련과정별'!$A$17:$L$1985,MATCH($A8&K$5,'4.훈련과정별'!$A$17:$A$1985,0),10) -> 0 | L8: =INDEX('4.훈련과정별'!$A$17:$L$1985,MATCH($A8&"식비",'4.훈련과정별'!$A$17:$A$1985,0),10)+INDEX('4.훈련과정별'!$A$17:$L$1985,MATCH($A8&"숙박비",'4.훈련과정별'!$A$17:$A$1985,0),10) -> 0 | M8: =INDEX('4.훈련과정별'!$A$17:$L$1985,MATCH($A8&M$5,'4.훈련과정별'!$A$17:$A$1985,0),10) -> 0 | N8: =INDEX('4.훈련과정별'!$A$17:$L$1985,MATCH($A8&N$5,'4.훈련과정별'!$A$17:$A$1985,0),10) -> 0 | O8: =SUM(P8:S8) -> 18466192 | P8: =F8+K8 -> 17166192 | Q8: =G8+L8 -> 600000 | R8: =H8+M8 -> 300000 | S8: =I8+N8 -> 400000 | T8: =ROUNDDOWN(P8/C8/D8,0) -> 14305
A9: 3 | B9: =INDEX('4.훈련과정별'!$B$5:$I$1985,MATCH($A9,'4.훈련과정별'!$B$5:$B$1985,0),2) -> 00000000 | C9: =INDEX('4.훈련과정별'!$B$5:$I$1985,MATCH($A9,'4.훈련과정별'!$B$5:$B$1985,0),6) -> 15 | D9: =INDEX('4.훈련과정별'!$B$5:$J$1985,MATCH($A9,'4.훈련과정별'!$B$5:$B$1985,0),9) -> 20 | E9: =SUM(F9:I9) -> 18466192 | F9: =INDEX('4.훈련과정별'!$A$17:$L$1985,MATCH($A9&F$5,'4.훈련과정별'!$A$17:$A$1985,0),9) -> 17166192 | G9: =INDEX('4.훈련과정별'!$A$17:$L$1985,MATCH($A9&"식비",'4.훈련과정별'!$A$17:$A$1985,0),9)+INDEX('4.훈련과정별'!$A$17:$L$1985,MATCH($A9&"숙박비",'4.훈련과정별'!$A$17:$A$1985,0),9) -> 600000 | H9: =INDEX('4.훈련과정별'!$A$17:$L$1985,MATCH($A9&H$5,'4.훈련과정별'!$A$17:$A$1985,0),9) -> 300000 | I9: =INDEX('4.훈련과정별'!$A$17:$L$1985,MATCH($A9&I$5,'4.훈련과정별'!$A$17:$A$1985,0),9) -> 400000 | J9: =ROUNDDOWN(F9/C9/D9,0) -> 57220 | K9: =INDEX('4.훈련과정별'!$A$17:$L$1985,MATCH($A9&K$5,'4.훈련과정별'!$A$17:$A$1985,0),10) -> 0 | L9: =INDEX('4.훈련과정별'!$A$17:$L$1985,MATCH($A9&"식비",'4.훈련과정별'!$A$17:$A$1985,0),10)+INDEX('4.훈련과정별'!$A$17:$L$1985,MATCH($A9&"숙박비",'4.훈련과정별'!$A$17:$A$1985,0),10) -> 0 | M9: =INDEX('4.훈련과정별'!$A$17:$L$1985,MATCH($A9&M$5,'4.훈련과정별'!$A$17:$A$1985,0),10) -> 0 | N9: =INDEX('4.훈련과정별'!$A$17:$L$1985,MATCH($A9&N$5,'4.훈련과정별'!$A$17:$A$1985,0),10) -> 0 | O9: =SUM(P9:S9) -> 18466192 | P9: =F9+K9 -> 17166192 | Q9: =G9+L9 -> 600000 | R9: =H9+M9 -> 300000 | S9: =I9+N9 -> 400000 | T9: =ROUNDDOWN(P9/C9/D9,0) -> 57220
A10: 4 | B10: =INDEX('4.훈련과정별'!$B$5:$I$1985,MATCH($A10,'4.훈련과정별'!$B$5:$B$1985,0),2) -> 00000000 | C10: =INDEX('4.훈련과정별'!$B$5:$I$1985,MATCH($A10,'4.훈련과정별'!$B$5:$B$1985,0),6) -> 30 | D10: =INDEX('4.훈련과정별'!$B$5:$J$1985,MATCH($A10,'4.훈련과정별'!$B$5:$B$1985,0),9) -> 40 | E10: =SUM(F10:I10) -> 18466192 | F10: =INDEX('4.훈련과정별'!$A$17:$L$1985,MATCH($A10&F$5,'4.훈련과정별'!$A$17:$A$1985,0),9) -> 17166192 | G10: =INDEX('4.훈련과정별'!$A$17:$L$1985,MATCH($A10&"식비",'4.훈련과정별'!$A$17:$A$1985,0),9)+INDEX('4.훈련과정별'!$A$17:$L$1985,MATCH($A10&"숙박비",'4.훈련과정별'!$A$17:$A$1985,0),9) -> 600000 | H10: =INDEX('4.훈련과정별'!$A$17:$L$1985,MATCH($A10&H$5,'4.훈련과정별'!$A$17:$A$1985,0),9) -> 300000 | I10: =INDEX('4.훈련과정별'!$A$17:$L$1985,MATCH($A10&I$5,'4.훈련과정별'!$A$17:$A$1985,0),9) -> 400000 | J10: =ROUNDDOWN(F10/C10/D10,0) -> 14305 | K10: =INDEX('4.훈련과정별'!$A$17:$L$1985,MATCH($A10&K$5,'4.훈련과정별'!$A$17:$A$1985,0),10) -> 0 | L10: =INDEX('4.훈련과정별'!$A$17:$L$1985,MATCH($A10&"식비",'4.훈련과정별'!$A$17:$A$1985,0),10)+INDEX('4.훈련과정별'!$A$17:$L$1985,MATCH($A10&"숙박비",'4.훈련과정별'!$A$17:$A$1985,0),10) -> 0 | M10: =INDEX('4.훈련과정별'!$A$17:$L$1985,MATCH($A10&M$5,'4.훈련과정별'!$A$17:$A$1985,0),10) -> 0 | N10: =INDEX('4.훈련과정별'!$A$17:$L$1985,MATCH($A10&N$5,'4.훈련과정별'!$A$17:$A$1985,0),10) -> 0 | O10: =SUM(P10:S10) -> 18466192 | P10: =F10+K10 -> 17166192 | Q10: =G10+L10 -> 600000 | R10: =H10+M10 -> 300000 | S10: =I10+N10 -> 400000 | T10: =ROUNDDOWN(P10/C10/D10,0) -> 14305
A11: 5 | B11: =INDEX('4.훈련과정별'!$B$5:$I$1985,MATCH($A11,'4.훈련과정별'!$B$5:$B$1985,0),2) -> 00000000 | C11: =INDEX('4.훈련과정별'!$B$5:$I$1985,MATCH($A11,'4.훈련과정별'!$B$5:$B$1985,0),6) -> 30 | D11: =INDEX('4.훈련과정별'!$B$5:$J$1985,MATCH($A11,'4.훈련과정별'!$B$5:$B$1985,0),9) -> 40 | E11: =SUM(F11:I11) -> 18466192 | F11: =INDEX('4.훈련과정별'!$A$17:$L$1985,MATCH($A11&F$5,'4.훈련과정별'!$A$17:$A$1985,0),9) -> 17166192 | G11: =INDEX('4.훈련과정별'!$A$17:$L$1985,MATCH($A11&"식비",'4.훈련과정별'!$A$17:$A$1985,0),9)+INDEX('4.훈련과정별'!$A$17:$L$1985,MATCH($A11&"숙박비",'4.훈련과정별'!$A$17:$A$1985,0),9) -> 600000 | H11: =INDEX('4.훈련과정별'!$A$17:$L$1985,MATCH($A11&H$5,'4.훈련과정별'!$A$17:$A$1985,0),9) -> 300000 | I11: =INDEX('4.훈련과정별'!$A$17:$L$1985,MATCH($A11&I$5,'4.훈련과정별'!$A$17:$A$1985,0),9) -> 400000 | J11: =ROUNDDOWN(F11/C11/D11,0) -> 14305 | K11: =INDEX('4.훈련과정별'!$A$17:$L$1985,MATCH($A11&K$5,'4.훈련과정별'!$A$17:$A$1985,0),10) -> 0 | L11: =INDEX('4.훈련과정별'!$A$17:$L$1985,MATCH($A11&"식비",'4.훈련과정별'!$A$17:$A$1985,0),10)+INDEX('4.훈련과정별'!$A$17:$L$1985,MATCH($A11&"숙박비",'4.훈련과정별'!$A$17:$A$1985,0),10) -> 0 | M11: =INDEX('4.훈련과정별'!$A$17:$L$1985,MATCH($A11&M$5,'4.훈련과정별'!$A$17:$A$1985,0),10) -> 0 | N11: =INDEX('4.훈련과정별'!$A$17:$L$1985,MATCH($A11&N$5,'4.훈련과정별'!$A$17:$A$1985,0),10) -> 0 | O11: =SUM(P11:S11) -> 18466192 | P11: =F11+K11 -> 17166192 | Q11: =G11+L11 -> 600000 | R11: =H11+M11 -> 300000 | S11: =I11+N11 -> 400000 | T11: =ROUNDDOWN(P11/C11/D11,0) -> 14305
A12: 6 | B12: =INDEX('4.훈련과정별'!$B$5:$I$1985,MATCH($A12,'4.훈련과정별'!$B$5:$B$1985,0),2) -> 00000000 | C12: =INDEX('4.훈련과정별'!$B$5:$I$1985,MATCH($A12,'4.훈련과정별'!$B$5:$B$1985,0),6) -> 30 | D12: =INDEX('4.훈련과정별'!$B$5:$J$1985,MATCH($A12,'4.훈련과정별'!$B$5:$B$1985,0),9) -> 40 | E12: =SUM(F12:I12) -> 18466192 | F12: =INDEX('4.훈련과정별'!$A$17:$L$1985,MATCH($A12&F$5,'4.훈련과정별'!$A$17:$A$1985,0),9) -> 17166192 | G12: =INDEX('4.훈련과정별'!$A$17:$L$1985,MATCH($A12&"식비",'4.훈련과정별'!$A$17:$A$1985,0),9)+INDEX('4.훈련과정별'!$A$17:$L$1985,MATCH($A12&"숙박비",'4.훈련과정별'!$A$17:$A$1985,0),9) -> 600000 | H12: =INDEX('4.훈련과정별'!$A$17:$L$1985,MATCH($A12&H$5,'4.훈련과정별'!$A$17:$A$1985,0),9) -> 300000 | I12: =INDEX('4.훈련과정별'!$A$17:$L$1985,MATCH($A12&I$5,'4.훈련과정별'!$A$17:$A$1985,0),9) -> 400000 | J12: =ROUNDDOWN(F12/C12/D12,0) -> 14305 | K12: =INDEX('4.훈련과정별'!$A$17:$L$1985,MATCH($A12&K$5,'4.훈련과정별'!$A$17:$A$1985,0),10) -> 0 | L12: =INDEX('4.훈련과정별'!$A$17:$L$1985,MATCH($A12&"식비",'4.훈련과정별'!$A$17:$A$1985,0),10)+INDEX('4.훈련과정별'!$A$17:$L$1985,MATCH($A12&"숙박비",'4.훈련과정별'!$A$17:$A$1985,0),10) -> 0 | M12: =INDEX('4.훈련과정별'!$A$17:$L$1985,MATCH($A12&M$5,'4.훈련과정별'!$A$17:$A$1985,0),10) -> 0 | N12: =INDEX('4.훈련과정별'!$A$17:$L$1985,MATCH($A12&N$5,'4.훈련과정별'!$A$17:$A$1985,0),10) -> 0 | O12: =SUM(P12:S12) -> 18466192 | P12: =F12+K12 -> 17166192 | Q12: =G12+L12 -> 600000 | R12: =H12+M12 -> 300000 | S12: =I12+N12 -> 400000 | T12: =ROUNDDOWN(P12/C12/D12,0) -> 14305
A13: 7 | B13: =INDEX('4.훈련과정별'!$B$5:$I$1985,MATCH($A13,'4.훈련과정별'!$B$5:$B$1985,0),2) -> 00000000 | C13: =INDEX('4.훈련과정별'!$B$5:$I$1985,MATCH($A13,'4.훈련과정별'!$B$5:$B$1985,0),6) -> 30 | D13: =INDEX('4.훈련과정별'!$B$5:$J$1985,MATCH($A13,'4.훈련과정별'!$B$5:$B$1985,0),9) -> 40 | E13: =SUM(F13:I13) -> 18466192 | F13: =INDEX('4.훈련과정별'!$A$17:$L$1985,MATCH($A13&F$5,'4.훈련과정별'!$A$17:$A$1985,0),9) -> 17166192 | G13: =INDEX('4.훈련과정별'!$A$17:$L$1985,MATCH($A13&"식비",'4.훈련과정별'!$A$17:$A$1985,0),9)+INDEX('4.훈련과정별'!$A$17:$L$1985,MATCH($A13&"숙박비",'4.훈련과정별'!$A$17:$A$1985,0),9) -> 600000 | H13: =INDEX('4.훈련과정별'!$A$17:$L$1985,MATCH($A13&H$5,'4.훈련과정별'!$A$17:$A$1985,0),9) -> 300000 | I13: =INDEX('4.훈련과정별'!$A$17:$L$1985,MATCH($A13&I$5,'4.훈련과정별'!$A$17:$A$1985,0),9) -> 400000 | J13: =ROUNDDOWN(F13/C13/D13,0) -> 14305 | K13: =INDEX('4.훈련과정별'!$A$17:$L$1985,MATCH($A13&K$5,'4.훈련과정별'!$A$17:$A$1985,0),10) -> 0 | L13: =INDEX('4.훈련과정별'!$A$17:$L$1985,MATCH($A13&"식비",'4.훈련과정별'!$A$17:$A$1985,0),10)+INDEX('4.훈련과정별'!$A$17:$L$1985,MATCH($A13&"숙박비",'4.훈련과정별'!$A$17:$A$1985,0),10) -> 0 | M13: =INDEX('4.훈련과정별'!$A$17:$L$1985,MATCH($A13&M$5,'4.훈련과정별'!$A$17:$A$1985,0),10) -> 0 | N13: =INDEX('4.훈련과정별'!$A$17:$L$1985,MATCH($A13&N$5,'4.훈련과정별'!$A$17:$A$1985,0),10) -> 0 | O13: =SUM(P13:S13) -> 18466192 | P13: =F13+K13 -> 17166192 | Q13: =G13+L13 -> 600000 | R13: =H13+M13 -> 300000 | S13: =I13+N13 -> 400000 | T13: =ROUNDDOWN(P13/C13/D13,0) -> 14305
A14: 8 | B14: =INDEX('4.훈련과정별'!$B$5:$I$1985,MATCH($A14,'4.훈련과정별'!$B$5:$B$1985,0),2) -> 00000000 | C14: =INDEX('4.훈련과정별'!$B$5:$I$1985,MATCH($A14,'4.훈련과정별'!$B$5:$B$1985,0),6) -> 30 | D14: =INDEX('4.훈련과정별'!$B$5:$J$1985,MATCH($A14,'4.훈련과정별'!$B$5:$B$1985,0),9) -> 40 | E14: =SUM(F14:I14) -> 18466192 | F14: =INDEX('4.훈련과정별'!$A$17:$L$1985,MATCH($A14&F$5,'4.훈련과정별'!$A$17:$A$1985,0),9) -> 17166192 | G14: =INDEX('4.훈련과정별'!$A$17:$L$1985,MATCH($A14&"식비",'4.훈련과정별'!$A$17:$A$1985,0),9)+INDEX('4.훈련과정별'!$A$17:$L$1985,MATCH($A14&"숙박비",'4.훈련과정별'!$A$17:$A$1985,0),9) -> 600000 | H14: =INDEX('4.훈련과정별'!$A$17:$L$1985,MATCH($A14&H$5,'4.훈련과정별'!$A$17:$A$1985,0),9) -> 300000 | I14: =INDEX('4.훈련과정별'!$A$17:$L$1985,MATCH($A14&I$5,'4.훈련과정별'!$A$17:$A$1985,0),9) -> 400000 | J14: =ROUNDDOWN(F14/C14/D14,0) -> 14305 | K14: =INDEX('4.훈련과정별'!$A$17:$L$1985,MATCH($A14&K$5,'4.훈련과정별'!$A$17:$A$1985,0),10) -> 0 | L14: =INDEX('4.훈련과정별'!$A$17:$L$1985,MATCH($A14&"식비",'4.훈련과정별'!$A$17:$A$1985,0),10)+INDEX('4.훈련과정별'!$A$17:$L$1985,MATCH($A14&"숙박비",'4.훈련과정별'!$A$17:$A$1985,0),10) -> 0 | M14: =INDEX('4.훈련과정별'!$A$17:$L$1985,MATCH($A14&M$5,'4.훈련과정별'!$A$17:$A$1985,0),10) -> 0 | N14: =INDEX('4.훈련과정별'!$A$17:$L$1985,MATCH($A14&N$5,'4.훈련과정별'!$A$17:$A$1985,0),10) -> 0 | O14: =SUM(P14:S14) -> 18466192 | P14: =F14+K14 -> 17166192 | Q14: =G14+L14 -> 600000 | R14: =H14+M14 -> 300000 | S14: =I14+N14 -> 400000 | T14: =ROUNDDOWN(P14/C14/D14,0) -> 14305
A15: 9 | B15: =INDEX('4.훈련과정별'!$B$5:$I$1985,MATCH($A15,'4.훈련과정별'!$B$5:$B$1985,0),2) -> 00000000 | C15: =INDEX('4.훈련과정별'!$B$5:$I$1985,MATCH($A15,'4.훈련과정별'!$B$5:$B$1985,0),6) -> 30 | D15: =INDEX('4.훈련과정별'!$B$5:$J$1985,MATCH($A15,'4.훈련과정별'!$B$5:$B$1985,0),9) -> 40 | E15: =SUM(F15:I15) -> 18466192 | F15: =INDEX('4.훈련과정별'!$A$17:$L$1985,MATCH($A15&F$5,'4.훈련과정별'!$A$17:$A$1985,0),9) -> 17166192 | G15: =INDEX('4.훈련과정별'!$A$17:$L$1985,MATCH($A15&"식비",'4.훈련과정별'!$A$17:$A$1985,0),9)+INDEX('4.훈련과정별'!$A$17:$L$1985,MATCH($A15&"숙박비",'4.훈련과정별'!$A$17:$A$1985,0),9) -> 600000 | H15: =INDEX('4.훈련과정별'!$A$17:$L$1985,MATCH($A15&H$5,'4.훈련과정별'!$A$17:$A$1985,0),9) -> 300000 | I15: =INDEX('4.훈련과정별'!$A$17:$L$1985,MATCH($A15&I$5,'4.훈련과정별'!$A$17:$A$1985,0),9) -> 400000 | J15: =ROUNDDOWN(F15/C15/D15,0) -> 14305 | K15: =INDEX('4.훈련과정별'!$A$17:$L$1985,MATCH($A15&K$5,'4.훈련과정별'!$A$17:$A$1985,0),10) -> 0 | L15: =INDEX('4.훈련과정별'!$A$17:$L$1985,MATCH($A15&"식비",'4.훈련과정별'!$A$17:$A$1985,0),10)+INDEX('4.훈련과정별'!$A$17:$L$1985,MATCH($A15&"숙박비",'4.훈련과정별'!$A$17:$A$1985,0),10) -> 0 | M15: =INDEX('4.훈련과정별'!$A$17:$L$1985,MATCH($A15&M$5,'4.훈련과정별'!$A$17:$A$1985,0),10) -> 0 | N15: =INDEX('4.훈련과정별'!$A$17:$L$1985,MATCH($A15&N$5,'4.훈련과정별'!$A$17:$A$1985,0),10) -> 0 | O15: =SUM(P15:S15) -> 18466192 | P15: =F15+K15 -> 17166192 | Q15: =G15+L15 -> 600000 | R15: =H15+M15 -> 300000 | S15: =I15+N15 -> 400000 | T15: =ROUNDDOWN(P15/C15/D15,0) -> 14305
A16: 10 | B16: =INDEX('4.훈련과정별'!$B$5:$I$1985,MATCH($A16,'4.훈련과정별'!$B$5:$B$1985,0),2) -> 00000000 | C16: =INDEX('4.훈련과정별'!$B$5:$I$1985,MATCH($A16,'4.훈련과정별'!$B$5:$B$1985,0),6) -> 30 | D16: =INDEX('4.훈련과정별'!$B$5:$J$1985,MATCH($A16,'4.훈련과정별'!$B$5:$B$1985,0),9) -> 40 | E16: =SUM(F16:I16) -> 18466192 | F16: =INDEX('4.훈련과정별'!$A$17:$L$1985,MATCH($A16&F$5,'4.훈련과정별'!$A$17:$A$1985,0),9) -> 17166192 | G16: =INDEX('4.훈련과정별'!$A$17:$L$1985,MATCH($A16&"식비",'4.훈련과정별'!$A$17:$A$1985,0),9)+INDEX('4.훈련과정별'!$A$17:$L$1985,MATCH($A16&"숙박비",'4.훈련과정별'!$A$17:$A$1985,0),9) -> 600000 | H16: =INDEX('4.훈련과정별'!$A$17:$L$1985,MATCH($A16&H$5,'4.훈련과정별'!$A$17:$A$1985,0),9) -> 300000 | I16: =INDEX('4.훈련과정별'!$A$17:$L$1985,MATCH($A16&I$5,'4.훈련과정별'!$A$17:$A$1985,0),9) -> 400000 | J16: =ROUNDDOWN(F16/C16/D16,0) -> 14305 | K16: =INDEX('4.훈련과정별'!$A$17:$L$1985,MATCH($A16&K$5,'4.훈련과정별'!$A$17:$A$1985,0),10) -> 0 | L16: =INDEX('4.훈련과정별'!$A$17:$L$1985,MATCH($A16&"식비",'4.훈련과정별'!$A$17:$A$1985,0),10)+INDEX('4.훈련과정별'!$A$17:$L$1985,MATCH($A16&"숙박비",'4.훈련과정별'!$A$17:$A$1985,0),10) -> 0 | M16: =INDEX('4.훈련과정별'!$A$17:$L$1985,MATCH($A16&M$5,'4.훈련과정별'!$A$17:$A$1985,0),10) -> 0 | N16: =INDEX('4.훈련과정별'!$A$17:$L$1985,MATCH($A16&N$5,'4.훈련과정별'!$A$17:$A$1985,0),10) -> 0 | O16: =SUM(P16:S16) -> 18466192 | P16: =F16+K16 -> 17166192 | Q16: =G16+L16 -> 600000 | R16: =H16+M16 -> 300000 | S16: =I16+N16 -> 400000 | T16: =ROUNDDOWN(P16/C16/D16,0) -> 14305
A17: 11 | B17: =INDEX('4.훈련과정별'!$B$5:$I$1985,MATCH($A17,'4.훈련과정별'!$B$5:$B$1985,0),2) -> 00000000 | C17: =INDEX('4.훈련과정별'!$B$5:$I$1985,MATCH($A17,'4.훈련과정별'!$B$5:$B$1985,0),6) -> 30 | D17: =INDEX('4.훈련과정별'!$B$5:$J$1985,MATCH($A17,'4.훈련과정별'!$B$5:$B$1985,0),9) -> 40 | E17: =SUM(F17:I17) -> 18466192 | F17: =INDEX('4.훈련과정별'!$A$17:$L$1985,MATCH($A17&F$5,'4.훈련과정별'!$A$17:$A$1985,0),9) -> 17166192 | G17: =INDEX('4.훈련과정별'!$A$17:$L$1985,MATCH($A17&"식비",'4.훈련과정별'!$A$17:$A$1985,0),9)+INDEX('4.훈련과정별'!$A$17:$L$1985,MATCH($A17&"숙박비",'4.훈련과정별'!$A$17:$A$1985,0),9) -> 600000 | H17: =INDEX('4.훈련과정별'!$A$17:$L$1985,MATCH($A17&H$5,'4.훈련과정별'!$A$17:$A$1985,0),9) -> 300000 | I17: =INDEX('4.훈련과정별'!$A$17:$L$1985,MATCH($A17&I$5,'4.훈련과정별'!$A$17:$A$1985,0),9) -> 400000 | J17: =ROUNDDOWN(F17/C17/D17,0) -> 14305 | K17: =INDEX('4.훈련과정별'!$A$17:$L$1985,MATCH($A17&K$5,'4.훈련과정별'!$A$17:$A$1985,0),10) -> 0 | L17: =INDEX('4.훈련과정별'!$A$17:$L$1985,MATCH($A17&"식비",'4.훈련과정별'!$A$17:$A$1985,0),10)+INDEX('4.훈련과정별'!$A$17:$L$1985,MATCH($A17&"숙박비",'4.훈련과정별'!$A$17:$A$1985,0),10) -> 0 | M17: =INDEX('4.훈련과정별'!$A$17:$L$1985,MATCH($A17&M$5,'4.훈련과정별'!$A$17:$A$1985,0),10) -> 0 | N17: =INDEX('4.훈련과정별'!$A$17:$L$1985,MATCH($A17&N$5,'4.훈련과정별'!$A$17:$A$1985,0),10) -> 0 | O17: =SUM(P17:S17) -> 18466192 | P17: =F17+K17 -> 17166192 | Q17: =G17+L17 -> 600000 | R17: =H17+M17 -> 300000 | S17: =I17+N17 -> 400000 | T17: =ROUNDDOWN(P17/C17/D17,0) -> 14305
A18: 12 | B18: =INDEX('4.훈련과정별'!$B$5:$I$1985,MATCH($A18,'4.훈련과정별'!$B$5:$B$1985,0),2) -> 00000000 | C18: =INDEX('4.훈련과정별'!$B$5:$I$1985,MATCH($A18,'4.훈련과정별'!$B$5:$B$1985,0),6) -> 30 | D18: =INDEX('4.훈련과정별'!$B$5:$J$1985,MATCH($A18,'4.훈련과정별'!$B$5:$B$1985,0),9) -> 40 | E18: =SUM(F18:I18) -> 18466192 | F18: =INDEX('4.훈련과정별'!$A$17:$L$1985,MATCH($A18&F$5,'4.훈련과정별'!$A$17:$A$1985,0),9) -> 17166192 | G18: =INDEX('4.훈련과정별'!$A$17:$L$1985,MATCH($A18&"식비",'4.훈련과정별'!$A$17:$A$1985,0),9)+INDEX('4.훈련과정별'!$A$17:$L$1985,MATCH($A18&"숙박비",'4.훈련과정별'!$A$17:$A$1985,0),9) -> 600000 | H18: =INDEX('4.훈련과정별'!$A$17:$L$1985,MATCH($A18&H$5,'4.훈련과정별'!$A$17:$A$1985,0),9) -> 300000 | I18: =INDEX('4.훈련과정별'!$A$17:$L$1985,MATCH($A18&I$5,'4.훈련과정별'!$A$17:$A$1985,0),9) -> 400000 | J18: =ROUNDDOWN(F18/C18/D18,0) -> 14305 | K18: =INDEX('4.훈련과정별'!$A$17:$L$1985,MATCH($A18&K$5,'4.훈련과정별'!$A$17:$A$1985,0),10) -> 0 | L18: =INDEX('4.훈련과정별'!$A$17:$L$1985,MATCH($A18&"식비",'4.훈련과정별'!$A$17:$A$1985,0),10)+INDEX('4.훈련과정별'!$A$17:$L$1985,MATCH($A18&"숙박비",'4.훈련과정별'!$A$17:$A$1985,0),10) -> 0 | M18: =INDEX('4.훈련과정별'!$A$17:$L$1985,MATCH($A18&M$5,'4.훈련과정별'!$A$17:$A$1985,0),10) -> 0 | N18: =INDEX('4.훈련과정별'!$A$17:$L$1985,MATCH($A18&N$5,'4.훈련과정별'!$A$17:$A$1985,0),10) -> 0 | O18: =SUM(P18:S18) -> 18466192 | P18: =F18+K18 -> 17166192 | Q18: =G18+L18 -> 600000 | R18: =H18+M18 -> 300000 | S18: =I18+N18 -> 400000 | T18: =ROUNDDOWN(P18/C18/D18,0) -> 14305
... A37: 31 | B37: =INDEX('4.훈련과정별'!$B$5:$I$1985,MATCH($A37,'4.훈련과정별'!$B$5:$B$1985,0),2) -> 설비전기실무 향상과정 | C37: =INDEX('4.훈련과정별'!$B$5:$I$1985,MATCH($A37,'4.훈련과정별'!$B$5:$B$1985,0),6) -> 15 | D37: =INDEX('4.훈련과정별'!$B$5:$J$1985,MATCH($A37,'4.훈련과정별'!$B$5:$B$1985,0),9) -> 20 | E37: =SUM(F37:I37) -> 15566192 | F37: =INDEX('4.훈련과정별'!$A$17:$L$1985,MATCH($A37&F$5,'4.훈련과정별'!$A$17:$A$1985,0),9) -> 15366192 | G37: =INDEX('4.훈련과정별'!$A$17:$L$1985,MATCH($A37&"식비",'4.훈련과정별'!$A$17:$A$1985,0),9)+INDEX('4.훈련과정별'!$A$17:$L$1985,MATCH($A37&"숙박비",'4.훈련과정별'!$A$17:$A$1985,0),9) -> 200000 | H37: =INDEX('4.훈련과정별'!$A$17:$L$1985,MATCH($A37&H$5,'4.훈련과정별'!$A$17:$A$1985,0),9) -> 0 | I37: =INDEX('4.훈련과정별'!$A$17:$L$1985,MATCH($A37&I$5,'4.훈련과정별'!$A$17:$A$1985,0),9) -> 0 | J37: =ROUNDDOWN(F37/C37/D37,0) -> 51220 | K37: =INDEX('4.훈련과정별'!$A$17:$L$1985,MATCH($A37&K$5,'4.훈련과정별'!$A$17:$A$1985,0),10) -> 0 | L37: =INDEX('4.훈련과정별'!$A$17:$L$1985,MATCH($A37&"식비",'4.훈련과정별'!$A$17:$A$1985,0),10)+INDEX('4.훈련과정별'!$A$17:$L$1985,MATCH($A37&"숙박비",'4.훈련과정별'!$A$17:$A$1985,0),10) -> 0 | M37: =INDEX('4.훈련과정별'!$A$17:$L$1985,MATCH($A37&M$5,'4.훈련과정별'!$A$17:$A$1985,0),10) -> 0 | N37: =INDEX('4.훈련과정별'!$A$17:$L$1985,MATCH($A37&N$5,'4.훈련과정별'!$A$17:$A$1985,0),10) -> 0 | O37: =SUM(P37:S37) -> 15566192 | P37: =F37+K37 -> 15366192 | Q37: =G37+L37 -> 200000 | R37: =H37+M37 -> 0 | S37: =I37+N37 -> 0 | T37: =ROUNDDOWN(P37/C37/D37,0) -> 51220

Sheet 4.훈련과정별
A1: □ 훈련과정별 조정내역
B3: ★ 문구 및 양식 절대 변경 금지(산식 있음), 행이 부족한 경우 항목내 행추가만 가능 ★ 노란셀만 작성 - 현재 숫자는 예시이므로 반드시 삭제하고 재작성 요망 ★ "조정금액(B)" 및 "승인 금액(A+B)"란은 심사시 활용
B4: 연번 | C4: 과정명 | E4: 훈련구분 (향상/채용예정자) | F4: 훈련일수 | G4: 훈련시간 | H4: 훈련인원 | I4: 개설횟수 | J4: 연인원
B5: 1 | C5: 열역학 | E5: 향상 | F5: 3 | G5: 30 | H5: 20 | I5: 1 | J5: 50
B7: 훈련비용 | E7: 훈련구분 (일반/지역특화/신산업) | G7: 훈련수준 | H7: NCS 분류 (소분류) | I7: NCS 기준단가 | J7: 기준단가 대비비율(%)
B8: 구분 | C8: 계 | D8: 훈련단가 (Ⅰ.훈련비/ 훈련시간/연인원)
B9: 계 | C9: =SUM(C10:C11) -> 18466192 | D9: =ROUNDDOWN(C10/G5/J5,0) -> 11444 | E9: 신산업 | G9: 6 | H9: 190306 | I9: 6850 | J9: =D9/I9 -> 1.6706569
B10: Ⅰ. 훈련비 | C10: =L17 -> 17166192
B11: Ⅱ. 식비 등 | C11: =L61 -> 1300000
F14: 신청 금액(A) | J14: 조정금액(B) | L14: 승인 금액(A+B)
B15: 항목 | C15: 소항목 | D15: 세부항목 | F15: 단가 | G15: 개/명/시간 | H15: 회차 | I15: 지원금 | J15: 금액 | K15: 조정 사유 | L15: 지원금
B16: 계 | I16: =I17+I61 -> 18466192 | L16: =L17+L61 -> 18466192
A17: =B5&"훈련비" -> 1훈련비 | B17: Ⅰ. 훈련비 | C17: 계 | I17: =I18+I19+I22+I26+I35+I44+I45+I49+I53+I57 -> 17166192 | J17: =J18+J19+J22+J26+J35+J44+J45+J49+J53+J57 -> 0 | L17: =L18+L19+L22+L26+L35+L44+L45+L49+L53+L57 -> 17166192
B18: 보조인력활용비 | C18: 소계 | D18: 보조인력활용비 | F18: 12506 | G18: 16 | H18: 2 | I18: =F18*G18*H18 -> 400192 | L18: =I18+J18 -> 400192
B19: 훈련시설 임차비 | C19: 소계 | I19: =SUM(I20:I21) -> 0 | J19: =SUM(J20:J21) -> 0 | L19: =SUM(L20:L21) -> 0
C20: 임차비 | I20: =F20*G20*H20 -> 0 | L20: =I20+J20 -> 0
I21: =F21*G21*H21 -> 0 | L21: =I21+J21 -> 0
B22: 훈련장비 임차비 | C22: 소계 | I22: =SUM(I23:I25) -> 1800000 | J22: =SUM(J23:J25) -> 0 | L22: =SUM(L23:L25) -> 1800000
C23: 임차비 | F23: 900000 | G23: 1 | H23: 2 | I23: =F23*G23*H23 -> 1800000 | L23: =I23+J23 -> 1800000
I24: =F24*G24*H24 -> 0 | L24: =I24+J24 -> 0
I25: =F25*G25*H25 -> 0 | L25: =I25+J25 -> 0
B26: 강사료 | C26: 소계 | I26: =I27+I31 -> 10000000 | J26: =J27+J31 -> 0 | L26: =L27+L31 -> 10000000
B27: 내부강사료 | C27: 소계 | I27: =SUM(I28:I30) -> 2000000 | J27: =SUM(J28:J30) -> 0 | L27: =SUM(L28:L30) -> 2000000
C28: 김공단 | D28: A등급 | F28: 100000 | G28: 10 | H28: 2 | I28: =F28*G28*H28 -> 2000000 | L28: =I28+J28 -> 2000000
C29: <강사명> | D29: B등급 | I29: =F29*G29*H29 -> 0 | L29: =I29+J29 -> 0
C30: <강사명> | D30: C등급 | I30: =F30*G30*H30 -> 0 | L30: =I30+J30 -> 0
B31: 외부강사료 | C31: 소계 | I31: =SUM(I32:I34) -> 8000000 | J31: =SUM(J32:J34) -> 0 | L31: =SUM(L32:L34) -> 8000000
C32: 김인력 | D32: A등급 | F32: 200000 | G32: 20 | H32: 2 | I32: =F32*G32*H32 -> 8000000 | L32: =I32+J32 -> 8000000
C33: <강사명> | D33: B등급 | I33: =F33*G33*H33 -> 0 | L33: =I33+J33 -> 0
C34: <강사명> | D34: C등급 | I34: =F34*G34*H34 -> 0 | L34: =I34+J34 -> 0
B35: 여비 | C35: 소계 | I35: =I36+I40 -> 160000 | J35: =J36+J40 -> 0 | L35: =L36+L40 -> 160000
B36: 강사여비 | C36: 소계 | I36: =SUM(I37:I39) -> 160000 | J36: =SUM(J37:J39) -> 0 | L36: =SUM(L37:L39) -> 160000
C37: 김공단 | F37: 80000 | G37: 1 | H37: 2 | I37: =F37*G37*H37 -> 160000 | L37: =I37+J37 -> 160000
I38: =F38*G38*H38 -> 0 | L38: =I38+J38 -> 0
I39: =F39*G39*H39 -> 0 | L39: =I39+J39 -> 0
B40: 전담자 등 여비 | C40: 소계 | I40: =SUM(I41:I43) -> 0 | J40: =SUM(J41:J43) -> 0 | L40: =SUM(L41:L43) -> 0
H41: 2 | I41: =F41*G41*H41 -> 0 | L41: =I41+J41 -> 0
I42: =F42*G42*H42 -> 0 | L42: =I42+J42 -> 0
I43: =F43*G43*H43 -> 0 | L43: =I43+J43 -> 0
B44: 다과비 (1인,1일,3,000원 한도) | C44: 소계 | D44: 다과비 | F44: 9000 | G44: 20 | H44: 2 | I44: =F44*G44*H44 -> 360000 | L44: =I44+J44 -> 360000
B45: 실습재료비 | C45: 소계 | I45: =SUM(I46:I48) -> 2400000 | J45: =SUM(J46:J48) -> 0 | L45: =SUM(L46:L48) -> 2400000
F46: 60000 | G46: 20 | H46: 2 | I46: =F46*G46*H46 -> 2400000 | L46: =I46+J46 -> 2400000
I47: =F47*G47*H47 -> 0 | L47: =I47+J47 -> 0
I48: =F48*G48*H48 -> 0 | L48: =I48+J48 -> 0
B49: 교재구입비 | C49: 소계 | D49: 교재구입비 | I49: =SUM(I50:I52) -> 800000 | J49: =SUM(J50:J52) -> 0 | L49: =SUM(L50:L52) -> 800000
C50: 인쇄비 | F50: 20000 | G50: 20 | H50: 2 | I50: =F50*G50*H50 -> 800000 | L50: =I50+J50 -> 800000
C51: 구입비 | I51: =F51*G51*H51 -> 0 | L51: =I51+J51 -> 0
I52: =F52*G52*H52 -> 0 | L52: =I52+J52 -> 0
B53: 기타훈련비용 | C53: 소계 | I53: =SUM(I54:I56) -> 120000 | J53: =SUM(J54:J56) -> 0 | L53: =SUM(L54:L56) -> 120000
C54: 문구비(3,000원 한도) | F54: 3000 | G54: 20 | H54: 2 | I54: =F54*G54*H54 -> 120000 | L54: =I54+J54 -> 120000
C55: 피복비 | I55: =F55*G55*H55 -> 0 | L55: =I55+J55 -> 0
I56: =F56*G56*H56 -> 0 | L56: =I56+J56 -> 0
B57: 훈련과정 일반운영비 | C57: 소계 | D57: =I57/(I18+I19+I22+I26+I35+I44+I45+I49+I53) -> 0.070198661 | I57: =SUM(I58:I60) -> 1126000 | J57: =SUM(J58:J60) -> 0 | L57: =SUM(L58:L60) -> 1126000
B58: (훈련과정 일반운영비를 제외한 훈련비의 7% 이내) | C58: 제세공과금 | F58: 33000 | G58: 1 | H58: 2 | I58: =F58*G58*H58 -> 66000 | L58: =I58+J58 -> 66000
C59: 재해보험료 | F59: 30000 | G59: 1 | H59: 2 | I59: =F59*G59*H59 -> 60000 | L59: =I59+J59 -> 60000
C60: 기타 | F60: 500000 | G60: 1 | H60: 2 | I60: =F60*G60*H60 -> 1000000 | L60: =I60+J60 -> 1000000
B61: Ⅱ. 식비 등 | C61: 계 | I61: =SUM(I62:I65) -> 1300000 | J61: =SUM(J62:J65) -> 0 | L61: =SUM(L62:L65) -> 1300000
A62: =B5&"식비" -> 1식비 | C62: 식비 | F62: 15000 | G62: 20 | H62: 2 | I62: =F62*G62*H62 -> 600000 | L62: =I62+J62 -> 600000
A63: =B5&"숙박비" -> 1숙박비 | C63: 숙박비 | I63: =F63*G63*H63 -> 0 | L63: =I63+J63 -> 0
A64: =B5&"수당" -> 1수당 | C64: 수당 | F64: 300000 | G64: 1 | H64: 1 | I64: =F64*G64*H64 -> 300000 | L64: =I64+J64 -> 300000
A65: =B5&"임금" -> 1임금 | C65: 임금 | F65: 400000 | G65: 1 | H65: 1 | I65: =F65*G65*H65 -> 400000 | L65: =I65+J65 -> 400000
B68: 연번 | C68: 과정명 | E68: 훈련구분 (향상/채용예정자) | F68: 훈련일수 | G68: 훈련시간 | H68: 훈련인원 | I68: 개설횟수 | J68: 연인원
B69: =B5+1 -> 2 | C69: 유체역학 | E69: 향상 | F69: 3 | G69: 30 | H69: 20 | I69: 2 | J69: =H69*I69 -> 40
B71: 훈련비용 | E71: 훈련구분 (일반/지역특화/신산업) | G71: 훈련수준 | H71: NCS 분류 (소분류) | I71: NCS 기준단가 | J71: 기준단가 대비비율(%)
B72: 구분 | C72: 계 | D72: 훈련단가 (Ⅰ.훈련비/ 훈련시간/연인원)
B73: 계 | C73: =SUM(C74:C75) -> 18466192 | D73: =ROUNDDOWN(C74/G69/J69,0) -> 14305 | E73: 신산업 | G73: 6 | H73: 190306 | I73: 6850 | J73: =D73/I73 -> 2.0883212
B74: Ⅰ. 훈련비 | C74: =L81 -> 17166192
B75: Ⅱ. 식비 등 | C75: =L125 -> 1300000
F78: 신청 금액(A) | J78: 조정금액(B) | L78: 승인 금액(A+B)
B79: 항목 | C79: 소항목 | D79: 세부항목 | F79: 단가 | G79: 개/명/시간 | H79: 회차 | I79: 지원금 | J79: 금액 | K79: 조정 사유 | L79: 지원금
B80: 계 | I80: =I81+I125 -> 18466192 | L80: =L81+L125 -> 18466192
A81: =B69&"훈련비" -> 2훈련비 | B81: Ⅰ. 훈련비 | C81: 계 | I81: =I82+I83+I86+I90+I99+I108+I109+I113+I117+I121 -> 17166192 | J81: =J82+J83+J86+J90+J99+J108+J109+J113+J117+J121 -> 0 | L81: =L82+L83+L86+L90+L99+L108+L109+L113+L117+L121 -> 17166192
B82: 보조인력활용비 | C82: 소계 | D82: 보조인력활용비 | F82: 12506 | G82: 16 | H82: 2 | I82: =F82*G82*H82 -> 400192 | L82: =I82+J82 -> 400192
B83: 훈련시설 임차비 | C83: 소계 | I83: =SUM(I84:I85) -> 0 | J83: =SUM(J84:J85) -> 0 | L83: =SUM(L84:L85) -> 0
C84: 임차비 | I84: =F84*G84*H84 -> 0 | L84: =I84+J84 -> 0
I85: =F85*G85*H85 -> 0 | L85: =I85+J85 -> 0
B86: 훈련장비 임차비 | C86: 소계 | I86: =SUM(I87:I89) -> 1800000 | J86: =SUM(J87:J89) -> 0 | L86: =SUM(L87:L89) -> 1800000
C87: 임차비 | F87: 900000 | G87: 1 | H87: 2 | I87: =F87*G87*H87 -> 1800000 | L87: =I87+J87 -> 1800000
I88: =F88*G88*H88 -> 0 | L88: =I88+J88 -> 0
I89: =F89*G89*H89 -> 0 | L89: =I89+J89 -> 0
B90: 강사료 | C90: 소계 | I90: =I91+I95 -> 10000000 | J90: =J91+J95 -> 0 | L90: =L91+L95 -> 10000000
B91: 내부강사료 | C91: 소계 | I91: =SUM(I92:I94) -> 2000000 | J91: =SUM(J92:J94) -> 0 | L91: =SUM(L92:L94) -> 2000000
C92: 김공단 | D92: A등급 | F92: 100000 | G92: 10 | H92: 2 | I92: =F92*G92*H92 -> 2000000 | L92: =I92+J92 -> 2000000
C93: <강사명> | D93: B등급 | I93: =F93*G93*H93 -> 0 | L93: =I93+J93 -> 0
C94: <강사명> | D94: C등급 | I94: =F94*G94*H94 -> 0 | L94: =I94+J94 -> 0
B95: 외부강사료 | C95: 소계 | I95: =SUM(I96:I98) -> 8000000 | J95: =SUM(J96:J98) -> 0 | L95: =SUM(L96:L98) -> 8000000
C96: 김인력 | D96: A등급 | F96: 200000 | G96: 20 | H96: 2 | I96: =F96*G96*H96 -> 8000000 | L96: =I96+J96 -> 8000000
C97: <강사명> | D97: B등급 | I97: =F97*G97*H97 -> 0 | L97: =I97+J97 -> 0
C98: <강사명> | D98: C등급 | I98: =F98*G98*H98 -> 0 | L98: =I98+J98 -> 0
B99: 여비 | C99: 소계 | I99: =I100+I104 -> 160000 | J99: =J100+J104 -> 0 | L99: =L100+L104 -> 160000
B100: 강사여비 | C100: 소계 | I100: =SUM(I101:I103) -> 160000 | J100: =SUM(J101:J103) -> 0 | L100: =SUM(L101:L103) -> 160000
C101: 김공단 | F101: 80000 | G101: 1 | H101: 2 | I101: =F101*G101*H101 -> 160000 | L101: =I101+J101 -> 160000
I102: =F102*G102*H102 -> 0 | L102: =I102+J102 -> 0
I103: =F103*G103*H103 -> 0 | L103: =I103+J103 -> 0
B104: 전담자 등 여비 | C104: 소계 | I104: =SUM(I105:I107) -> 0 | J104: =SUM(J105:J107) -> 0 | L104: =SUM(L105:L107) -> 0
H105: 2 | I105: =F105*G105*H105 -> 0 | L105: =I105+J105 -> 0
I106: =F106*G106*H106 -> 0 | L106: =I106+J106 -> 0
I107: =F107*G107*H107 -> 0 | L107: =I107+J107 -> 0
B108: 다과비 (1인,1일,3,000원 한도) | C108: 소계 | D108: 다과비 | F108: 9000 | G108: 20 | H108: 2 | I108: =F108*G108*H108 -> 360000 | L108: =I108+J108 -> 360000
B109: 실습재료비 | C109: 소계 | I109: =SUM(I110:I112) -> 2400000 | J109: =SUM(J110:J112) -> 0 | L109: =SUM(L110:L112) -> 2400000
...

Sheet 5.강사 경력산정 근거자료
A1: □ 훈련과정별 강사 투입 현황 | K1: 직종별 훈련비용 기준단가(100%) 훈련과정이 아닌 경우에는 모두 강사경력 등에 따른 등급 산정 필요, 아래 엑셀은 강사 경력산정을 위한 계산 편의용 자료이며, 관련 증빙자료는 별도 제출해야함
E3: 강사현황 | K3: 강사 경력 산정근거
A4: 연번 | B4: 훈련과정명 | C4: 훈련시간 | D4: 훈련회차 | E4: 내부/외부 | F4: 강사명 | G4: 강사등급 | H4: 투입시간 | I4: 경력 산정 기준 | K4: 학위 | L4: 학위 취득 일 | M4: 총 경력 산정 | N4: 경력 1 시작 | O4: 경력 1 종료 | P4: 경력 1 기간 | Q4: 경력 2 시작 | R4: 경력 2 종료 | S4: 경력 2 기간 | T4: 경력 3 시작 | U4: 경력 3 종료 | V4: 경력 3 기간 | W4: 경력 4 시작 | X4: 경력 4 종료 | Y4: 경력 4 기간 | Z4: 경력 5 시작 | AA4: 경력 5 종료 | AB4: 경력 5 기간 | AC4: 경력 6 시작 | AD4: 경력 6 종료 | AE4: 경력 6 기간 | AF4: 경력 7 시작 | AG4: 경력 7 종료 | AH4: 경력 7 기간 | AI4: 경력 8 시작 | AJ4: 경력 8 종료 | AK4: 경력 8 기간 | AL4: 경력 9 시작 | AM4: 경력 9 종료 | AN4: 경력 9 기간 | AO4: 경력 10 시작 | AP4: 경력 10 종료 | AQ4: 경력 10 기간
A5: 1 | E5: 외부 | G5: A | M5: =(P5+S5+V5+Y5+AB5+AE5+AH5+AK5+AN5+AQ5)/365 -> 5.9917808 | N5: 42736 | O5: 44074 | P5: =O5-N5 -> 1338 | Q5: 44197 | R5: 44804 | S5: =R5-Q5 -> 607 | T5: 44927 | U5: 45169 | V5: =U5-T5 -> 242 | Y5: =X5-W5 -> 0 | AB5: =AA5-Z5 -> 0 | AE5: =AD5-AC5 -> 0 | AH5: =AG5-AF5 -> 0 | AK5: =AJ5-AI5 -> 0 | AN5: =AM5-AL5 -> 0 | AQ5: =AP5-AO5 -> 0
A6: 1 | E6: 외부 | G6: B | M6: =(P6+S6+V6+Y6+AB6+AE6+AH6+AK6+AN6+AQ6)/365 -> 3.6657534 | N6: 42736 | O6: 44074 | P6: =O6-N6 -> 1338 | S6: =R6-Q6 -> 0 | V6: =U6-T6 -> 0 | Y6: =X6-W6 -> 0 | AB6: =AA6-Z6 -> 0 | AE6: =AD6-AC6 -> 0 | AH6: =AG6-AF6 -> 0 | AK6: =AJ6-AI6 -> 0 | AN6: =AM6-AL6 -> 0 | AQ6: =AP6-AO6 -> 0
A7: 1 | E7: 외부 | G7: B | M7: =(P7+S7+V7+Y7+AB7+AE7+AH7+AK7+AN7+AQ7)/365 -> 3.6657534 | N7: 42736 | O7: 44074 | P7: =O7-N7 -> 1338 | S7: =R7-Q7 -> 0 | V7: =U7-T7 -> 0 | Y7: =X7-W7 -> 0 | AB7: =AA7-Z7 -> 0 | AE7: =AD7-AC7 -> 0 | AH7: =AG7-AF7 -> 0 | AK7: =AJ7-AI7 -> 0 | AN7: =AM7-AL7 -> 0 | AQ7: =AP7-AO7 -> 0
A8: 2 | E8: 외부 | G8: B | M8: =(P8+S8+V8+Y8+AB8+AE8+AH8+AK8+AN8+AQ8)/365 -> 3.6657534 | N8: 42736 | O8: 44074 | P8: =O8-N8 -> 1338 | S8: =R8-Q8 -> 0 | V8: =U8-T8 -> 0 | Y8: =X8-W8 -> 0 | AB8: =AA8-Z8 -> 0 | AE8: =AD8-AC8 -> 0 | AH8: =AG8-AF8 -> 0 | AK8: =AJ8-AI8 -> 0 | AN8: =AM8-AL8 -> 0 | AQ8: =AP8-AO8 -> 0
A9: 2 | E9: 외부 | G9: C | M9: =(P9+S9+V9+Y9+AB9+AE9+AH9+AK9+AN9+AQ9)/365 -> 3.6657534 | N9: 42736 | O9: 44074 | P9: =O9-N9 -> 1338 | S9: =R9-Q9 -> 0 | V9: =U9-T9 -> 0 | Y9: =X9-W9 -> 0 | AB9: =AA9-Z9 -> 0 | AE9: =AD9-AC9 -> 0 | AH9: =AG9-AF9 -> 0 | AK9: =AJ9-AI9 -> 0 | AN9: =AM9-AL9 -> 0 | AQ9: =AP9-AO9 -> 0
A10: 2 | E10: 외부 | G10: C | M10: =(P10+S10+V10+Y10+AB10+AE10+AH10+AK10+AN10+AQ10)/365 -> 3.6657534 | N10: 42736 | O10: 44074 | P10: =O10-N10 -> 1338 | S10: =R10-Q10 -> 0 | V10: =U10-T10 -> 0 | Y10: =X10-W10 -> 0 | AB10: =AA10-Z10 -> 0 | AE10: =AD10-AC10 -> 0 | AH10: =AG10-AF10 -> 0 | AK10: =AJ10-AI10 -> 0 | AN10: =AM10-AL10 -> 0 | AQ10: =AP10-AO10 -> 0
A11: 2 | E11: 외부 | G11: B | M11: =(P11+S11+V11+Y11+AB11+AE11+AH11+AK11+AN11+AQ11)/365 -> 3.6657534 | N11: 42736 | O11: 44074 | P11: =O11-N11 -> 1338 | S11: =R11-Q11 -> 0 | V11: =U11-T11 -> 0 | Y11: =X11-W11 -> 0 | AB11: =AA11-Z11 -> 0 | AE11: =AD11-AC11 -> 0 | AH11: =AG11-AF11 -> 0 | AK11: =AJ11-AI11 -> 0 | AN11: =AM11-AL11 -> 0 | AQ11: =AP11-AO11 -> 0
A12: 2 | E12: 외부 | G12: B | M12: =(P12+S12+V12+Y12+AB12+AE12+AH12+AK12+AN12+AQ12)/365 -> 3.6657534 | N12: 42736 | O12: 44074 | P12: =O12-N12 -> 1338 | S12: =R12-Q12 -> 0 | V12: =U12-T12 -> 0 | Y12: =X12-W12 -> 0 | AB12: =AA12-Z12 -> 0 | AE12: =AD12-AC12 -> 0 | AH12: =AG12-AF12 -> 0 | AK12: =AJ12-AI12 -> 0 | AN12: =AM12-AL12 -> 0 | AQ12: =AP12-AO12 -> 0
A13: 3 | E13: 외부 | G13: B | M13: =(P13+S13+V13+Y13+AB13+AE13+AH13+AK13+AN13+AQ13)/365 -> 3.6657534 | N13: 42736 | O13: 44074 | P13: =O13-N13 -> 1338 | S13: =R13-Q13 -> 0 | V13: =U13-T13 -> 0 | Y13: =X13-W13 -> 0 | AB13: =AA13-Z13 -> 0 | AE13: =AD13-AC13 -> 0 | AH13: =AG13-AF13 -> 0 | AK13: =AJ13-AI13 -> 0 | AN13: =AM13-AL13 -> 0 | AQ13: =AP13-AO13 -> 0
A14: 3 | E14: 외부 | G14: B | M14: =(P14+S14+V14+Y14+AB14+AE14+AH14+AK14+AN14+AQ14)/365 -> 3.6657534 | N14: 42736 | O14: 44074 | P14: =O14-N14 -> 1338 | S14: =R14-Q14 -> 0 | V14: =U14-T14 -> 0 | Y14: =X14-W14 -> 0 | AB14: =AA14-Z14 -> 0 | AE14: =AD14-AC14 -> 0 | AH14: =AG14-AF14 -> 0 | AK14: =AJ14-AI14 -> 0 | AN14: =AM14-AL14 -> 0 | AQ14: =AP14-AO14 -> 0
A15: 3 | E15: 외부 | G15: B | M15: =(P15+S15+V15+Y15+AB15+AE15+AH15+AK15+AN15+AQ15)/365 -> 3.6657534 | N15: 42736 | O15: 44074 | P15: =O15-N15 -> 1338 | S15: =R15-Q15 -> 0 | V15: =U15-T15 -> 0 | Y15: =X15-W15 -> 0 | AB15: =AA15-Z15 -> 0 | AE15: =AD15-AC15 -> 0 | AH15: =AG15-AF15 -> 0 | AK15: =AJ15-AI15 -> 0 | AN15: =AM15-AL15 -> 0 | AQ15: =AP15-AO15 -> 0
A16: 3 | E16: 외부 | G16: B | M16: =(P16+S16+V16+Y16+AB16+AE16+AH16+AK16+AN16+AQ16)/365 -> 3.6657534 | N16: 42736 | O16: 44074 | P16: =O16-N16 -> 1338 | S16: =R16-Q16 -> 0 | V16: =U16-T16 -> 0 | Y16: =X16-W16 -> 0 | AB16: =AA16-Z16 -> 0 | AE16: =AD16-AC16 -> 0 | AH16: =AG16-AF16 -> 0 | AK16: =AJ16-AI16 -> 0 | AN16: =AM16-AL16 -> 0 | AQ16: =AP16-AO16 -> 0
A17: 3 | E17: 외부 | G17: A | M17: =(P17+S17+V17+Y17+AB17+AE17+AH17+AK17+AN17+AQ17)/365 -> 3.6657534 | N17: 42736 | O17: 44074 | P17: =O17-N17 -> 1338 | S17: =R17-Q17 -> 0 | V17: =U17-T17 -> 0 | Y17: =X17-W17 -> 0 | AB17: =AA17-Z17 -> 0 | AE17: =AD17-AC17 -> 0 | AH17: =AG17-AF17 -> 0 | AK17: =AJ17-AI17 -> 0 | AN17: =AM17-AL17 -> 0 | AQ17: =AP17-AO17 -> 0
A18: 3 | E18: 외부

Sheet (참고) 2024년 NCS기준단가
A1: 2024년 NCS 기준단가
A3: NCS코드 | B3: 대분류 | C3: 중분류 | D3: 소분류 | E3: 기준단가 | G3: NCS코드(대) | H3: NCS코드(대중) | I3: NCS코드(대중소) | J3: 대분류명 | K3: 중분류명 | L3: 소분류명
A4: 010101 | B4: 01. 사업관리 | C4: 01. 사업관리 | D4: 01. 프로젝트관리 | E4: 5580 | G4: 01 | H4: =LEFT(I4,4) -> 0101 | I4: 010101 | J4: =MID(B4,4,50) -> 사업관리 | K4: =MID(C4,4,50) -> 사업관리 | L4: =MID(D4,4,50) -> 프로젝트관리
A5: 010102 | B5: 01. 사업관리 | C5: 01. 사업관리 | D5: 02. 해외관리 | E5: 5580 | G5: 01 | H5: =LEFT(I5,4) -> 0101 | I5: 010102 | J5: =MID(B5,4,50) -> 사업관리 | K5: =MID(C5,4,50) -> 사업관리 | L5: =MID(D5,4,50) -> 해외관리
A6: 020101 | B6: 02. 경영･회계･사무 | C6: 01. 기획사무 | D6: 01. 경영기획 | E6: 7410 | G6: 02 | H6: =LEFT(I6,4) -> 0201 | I6: 020101 | J6: =MID(B6,4,50) -> 경영･회계･사무 | K6: =MID(C6,4,50) -> 기획사무 | L6: =MID(D6,4,50) -> 경영기획
A7: 020102 | B7: 02. 경영･회계･사무 | C7: 01. 기획사무 | D7: 02. 홍보･광고 | E7: 7080 | G7: 02 | H7: =LEFT(I7,4) -> 0201 | I7: 020102 | J7: =MID(B7,4,50) -> 경영･회계･사무 | K7: =MID(C7,4,50) -> 기획사무 | L7: =MID(D7,4,50) -> 홍보･광고
A8: 020103 | B8: 02. 경영･회계･사무 | C8: 01. 기획사무 | D8: 03. 마케팅 | E8: 6740 | G8: 02 | H8: =LEFT(I8,4) -> 0201 | I8: 020103 | J8: =MID(B8,4,50) -> 경영･회계･사무 | K8: =MID(C8,4,50) -> 기획사무 | L8: =MID(D8,4,50) -> 마케팅
A9: 020201 | B9: 02. 경영･회계･사무 | C9: 02. 총무･인사 | D9: 01. 총무 | E9: 6990 | G9: 02 | H9: =LEFT(I9,4) -> 0202 | I9: 020201 | J9: =MID(B9,4,50) -> 경영･회계･사무 | K9: =MID(C9,4,50) -> 총무･인사 | L9: =MID(D9,4,50) -> 총무
A10: 020202 | B10: 02. 경영･회계･사무 | C10: 02. 총무･인사 | D10: 02. 인사･조직 | E10: 8510 | G10: 02 | H10: =LEFT(I10,4) -> 0202 | I10: 020202 | J10: =MID(B10,4,50) -> 경영･회계･사무 | K10: =MID(C10,4,50) -> 총무･인사 | L10: =MID(D10,4,50) -> 인사･조직
A11: 020203 | B11: 02. 경영･회계･사무 | C11: 02. 총무･인사 | D11: 03. 일반사무 | E11: 6000 | G11: 02 | H11: =LEFT(I11,4) -> 0202 | I11: 020203 | J11: =MID(B11,4,50) -> 경영･회계･사무 | K11: =MID(C11,4,50) -> 총무･인사 | L11: =MID(D11,4,50) -> 일반사무
A12: 020301 | B12: 02. 경영･회계･사무 | C12: 03. 재무･회계 | D12: 01. 재무 | E12: 6960 | G12: 02 | H12: =LEFT(I12,4) -> 0203 | I12: 020301 | J12: =MID(B12,4,50) -> 경영･회계･사무 | K12: =MID(C12,4,50) -> 재무･회계 | L12: =MID(D12,4,50) -> 재무
A13: 020302 | B13: 02. 경영･회계･사무 | C13: 03. 재무･회계 | D13: 02. 회계 | E13: 6560 | G13: 02 | H13: =LEFT(I13,4) -> 0203 | I13: 020302 | J13: =MID(B13,4,50) -> 경영･회계･사무 | K13: =MID(C13,4,50) -> 재무･회계 | L13: =MID(D13,4,50) -> 회계
A14: 020401 | B14: 02. 경영･회계･사무 | C14: 04. 생산･품질관리 | D14: 01. 생산관리 | E14: 6620 | G14: 02 | H14: =LEFT(I14,4) -> 0204 | I14: 020401 | J14: =MID(B14,4,50) -> 경영･회계･사무 | K14: =MID(C14,4,50) -> 생산･품질관리 | L14: =MID(D14,4,50) -> 생산관리
A15: 020402 | B15: 02. 경영･회계･사무 | C15: 04. 생산･품질관리 | D15: 02. 품질관리 | E15: 7170 | G15: 02 | H15: =LEFT(I15,4) -> 0204 | I15: 020402 | J15: =MID(B15,4,50) -> 경영･회계･사무 | K15: =MID(C15,4,50) -> 생산･품질관리 | L15: =MID(D15,4,50) -> 품질관리
... A34: 050202 | B34: 05. 법률･경찰･소방･교도･국방 | C34: 02. 소방방재 | D34: 02. 방재 | E34: 6410 | G34: 05 | H34: =LEFT(I34,4) -> 0502 | I34: 050202 | J34: =MID(B34,4,50) -> 법률･경찰･소방･교도･국방 | K34: =MID(C34,4,50) -> 소방방재 | L34: =MID(D34,4,50) -> 방재
A35: 050203 | B35: 05. 법률･경찰･소방･교도･국방 | C35: 02. 소방방재 | D35: 03. 스마트재난관리 | E35: 6410 | G35: 05 | H35: =LEFT(I35,4) -> 0502 | I35: 050203 | J35: =MID(B35,4,50) -> 법률･경찰･소방･교도･국방 | K35: =MID(C35,4,50) -> 소방방재 | L35: 스마트재난관리
A36: 060101 | B36: 06. 보건･의료 | C36: 01. 보건 | D36: 01. 의료기술지원 | E36: 4520 | G36: 06 | H36: =LEFT(I36,4) -> 0601 | I36: 060101 | J36: =MID(B36,4,50) -> 보건･의료 | K36: =MID(C36,4,50) -> 보건 | L36: =MID(D36,4,50) -> 의료기술지원
A37: 060102 | B37: 06. 보건･의료 | C37: 01. 보건 | D37: 02. 보건지원 | E37: 5550 | G37: 06 | H37: =LEFT(I37,4) -> 0601 | I37: 060102 | J37: =MID(B37,4,50) -> 보건･의료 | K37: =MID(C37,4,50) -> 보건 | L37: =MID(D37,4,50) -> 보건지원
A38: 060103 | B38: 06. 보건･의료 | C38: 01. 보건 | D38: 03. 약무 | E38: 5530 | G38: 06 | H38: =LEFT(I38,4) -> 0601 | I38: 060103 | J38: =MID(B38,4,50) -> 보건･의료 | K38: =MID(C38,4,50) -> 보건 | L38: =MID(D38,4,50) -> 약무
A39: 060201 | B39: 06. 보건･의료 | C39: 02. 의료 | D39: 01. 임상의학 | E39: 6970 | G39: 06 | H39: =LEFT(I39,4) -> 0602 | I39: 060201 | J39: =MID(B39,4,50) -> 보건･의료 | K39: =MID(C39,4,50) -> 의료 | L39: =MID(D39,4,50) -> 임상의학
A40: 060202 | B40: 06. 보건･의료 | C40: 02. 의료 | D40: 02. 간호 | E40: 5780 | G40: 06 | H40: =LEFT(I40,4) -> 0602 | I40: 060202 | J40: =MID(B40,4,50) -> 보건･의료 | K40: =MID(C40,4,50) -> 의료 | L40: =MID(D40,4,50) -> 간호
A41: 060203 | B41: 06. 보건･의료 | C41: 02. 의료 | D41: 03. 기초의학 | E41: 6170 | G41: 06 | H41: =LEFT(I41,4) -> 0602 | I41: 060203 | J41: =MID(B41,4,50) -> 보건･의료 | K41: =MID(C41,4,50) -> 의료 | L41: =MID(D41,4,50) -> 기초의학
A42: 060204 | B42: 06. 보건･의료 | C42: 02. 의료 | D42: 04. 임상지원 | E42: 5960 | G42: 06 | H42: =LEFT(I42,4) -> 0602 | I42: 060204 | J42: =MID(B42,4,50) -> 보건･의료 | K42: =MID(C42,4,50) -> 의료 | L42: =MID(D42,4,50) -> 임상지원
A43: 070101 | B43: 07. 사회복지･종교 | C43: 01. 사회복지 | D43: 01. 사회복지정책 | E43: 6460 | G43: 07 | H43: =LEFT(I43,4) -> 0701 | I43: 070101 | J43: =MID(B43,4,50) -> 사회복지･종교 | K43: =MID(C43,4,50) -> 사회복지 | L43: =MID(D43,4,50) -> 사회복지정책
A44: 070102 | B44: 07. 사회복지･종교 | C44: 01. 사회복지 | D44: 02. 사회복지서비스 | E44: 6620 | G44: 07 | H44: =LEFT(I44,4) -> 0701 | I44: 070102 | J44: =MID(B44,4,50) -> 사회복지･종교 | K44: =MID(C44,4,50) -> 사회복지 | L44: =MID(D44,4,50) -> 사회복지서비스
A45: 070201 | B45: 07. 사회복지･종교 | C45: 02. 상담 | D45: 01. 직업상담서비스 | E45: 6460 | G45: 07 | H45: =LEFT(I45,4) -> 0702 | I45: 070201 | J45: =MID(B45,4,50) -> 사회복지･종교 | K45: =MID(C45,4,50) -> 상담 | L45: =MID(D45,4,50) -> 직업상담서비스
A46: 070202 | B46: 07. 사회복지･종교 | C46: 02. 상담 | D46: 02. 청소년지도 | E46: 6460 | G46: 07 | H46: =LEFT(I46,4) -> 0702 | I46: 070202 | J46: =MID(B46,4,50) -> 사회복지･종교 | K46: =MID(C46,4,50) -> 상담 | L46: =MID(D46,4,50) -> 청소년지도
A47: 070203 | B47: 07. 사회복지･종교 | C47: 02. 상담 | D47: 03. 심리상담 | E47: 6460 | G47: 07 | H47: =LEFT(I47,4) -> 0702 | I47: 070203 | J47: =MID(B47,4,50) -> 사회복지･종교 | K47: =MID(C47,4,50) -> 상담 | L47: =MID(D47,4,50) -> 심리상담
... A87: 120405 | B87: 12. 이용･숙박･여행･오락･스포츠 | C87: 04. 스포츠 | D87: 05. 레크리에이션 | E87: 6900 | G87: 12 | H87: =LEFT(I87,4) -> 1204 | I87: 120405 | J87: =MID(B87,4,50) -> 이용･숙박･여행･오락･스포츠 | K87: =MID(C87,4,50) -> 스포츠 | L87: =MID(D87,4,50) -> 레크리에이션
A88: 130101 | B88: 13. 음식서비스 | C88: 01. 식음료조리･서비스 | D88: 01. 음식조리 | E88: 7600 | G88: 13 | H88: =LEFT(I88,4) -> 1301 | I88: 130101 | J88: =MID(B90,4,50) -> 음식서비스 | K88: =MID(C88,4,50) -> 식음료조리･서비스 | L88: =MID(D88,4,50) -> 음식조리
A89: 130102 | B89: 13. 음식서비스 | C89: 01. 식음료조리･서비스 | D89: 02. 식음료서비스 | E89: 7700 | G89: 13 | H89: =LEFT(I89,4) -> 1301 | I89: 130102 | J89: =MID(B89,4,50) -> 음식서비스 | K89: =MID(C89,4,50) -> 식음료조리･서비스 | L89: =MID(D89,4,50) -> 식음료서비스
A90: 130103 | B90: 13. 음식서비스 | C90: 01. 식음료조리･서비스 | D90: 03. 외식경영 | E90: 7660 | G90: 13 | H90: =LEFT(I90,4) -> 1301 | I90: 130103 | J90: =MID(B90,4,50) -> 음식서비스 | K90: =MID(C90,4,50) -> 식음료조리･서비스 | L90: =MID(D90,4,50) -> 외식경영
A91: 140101 | B91: 14. 건설 | C91: 01. 건설공사관리 | D91: 01. 건설시공전관리 | E91: 7210 | G91: 14 | H91: =LEFT(I91,4) -> 1401 | I91: 140101 | J91: =MID(B91,4,50) -> 건설 | K91: =MID(C91,4,50) -> 건설공사관리 | L91: =MID(D91,4,50) -> 건설시공전관리
A92: 140102 | B92: 14. 건설 | C92: 01. 건설공사관리 | D92: 02. 건설시공관리 | E92: 7210 | G92: 14 | H92: =LEFT(I92,4) -> 1401 | I92: 140102 | J92: =MID(B92,4,50) -> 건설 | K92: =MID(C92,4,50) -> 건설공사관리 | L92: =MID(D92,4,50) -> 건설시공관리
A93: 140103 | B93: 14. 건설 | C93: 01. 건설공사관리 | D93: 03. 건설시공후관리 | E93: 7350 | G93: 14 | H93: =LEFT(I93,4) -> 1401 | I93: 140103 | J93: =MID(B93,4,50) -> 건설 | K93: =MID(C93,4,50) -> 건설공사관리 | L93: =MID(D93,4,50) -> 건설시공후관리
A94: 140104 | B94: 14. 건설 | C94: 01. 건설공사관리 | D94: 04. 스마트건설관리 | E94: 7260 | G94: 14 | H94: 1401 | I94: 140104 | J94: 건설 | K94: =MID(C94,4,50) -> 건설공사관리 | L94: =MID(D94,4,50) -> 스마트건설관리
A95: 140201 | B95: 14. 건설 | C95: 02. 토목 | D95: 01. 토목설계･감리 | E95: 7530 | G95: 14 | H95: =LEFT(I95,4) -> 1402 | I95: 140201 | J95: =MID(B95,4,50) -> 건설 | K95: =MID(C95,4,50) -> 토목 | L95: =MID(D95,4,50) -> 토목설계･감리
A96: 140202 | B96: 14. 건설 | C96: 02. 토목 | D96: 02. 토목시공 | E96: 7590 | G96: 14 | H96: =LEFT(I96,4) -> 1402 | I96: 140202 | J96: =MID(B96,4,50) -> 건설 | K96: =MID(C96,4,50) -> 토목 | L96: =MID(D96,4,50) -> 토목시공
A97: 140203 | B97: 14. 건설 | C97: 02. 토목 | D97: 03. 측량･지리정보개발 | E97: 6820 | G97: 14 | H97: =LEFT(I97,4) -> 1402 | I97: 140203 | J97: =MID(B97,4,50) -> 건설 | K97: =MID(C97,4,50) -> 토목 | L97: =MID(D97,4,50) -> 측량･지리정보개발
A98: 140301 | B98: 14. 건설 | C98: 03. 건축 | D98: 01. 건축설계･감리 | E98: 6820 | G98: 14 | H98: =LEFT(I98,4) -> 1403 | I98: 140301 | J98: =MID(B98,4,50) -> 건설 | K98: =MID(C98,4,50) -> 건축 | L98: =MID(D98,4,50) -> 건축설계･감리
A99: 140302 | B99: 14. 건설 | C99: 03. 건축 | D99: 02. 건축시공 | E99: 6820 | G99: 14 | H99: =LEFT(I99,4) -> 1403 | I99: 140302 | J99: =MID(B99,4,50) -> 건설 | K99: =MID(C99,4,50) -> 건축 | L99: =MID(D99,4,50) -> 건축시공
A100: 140303 | B100: 14. 건설 | C100: 03. 건축 | D100: 03. 건축설비설계･시공 | E100: 6820 | G100: 14 | H100: =LEFT(I100,4) -> 1403 | I100: 140303 | J100: =MID(B100,4,50) -> 건설 | K100: =MID(C100,4,50) -> 건축 | L100: =MID(D100,4,50) -> 건축설비설계･시공
A101: 140401 | B101: 14. 건설 | C101: 04. 플랜트 | D101: 01. 플랜트설계･감리 | E101: 6820 | G101: 14 | H101: =LEFT(I101,4) -> 1404 | I101: 140401 | J101: =MID(B101,4,50) -> 건설 | K101: =MID(C101,4,50) -> 플랜트 | L101: =MID(D101,4,50) -> 플랜트설계･감리
A102: 140402 | B102: 14. 건설 | C102: 04. 플랜트 | D102: 02. 플랜트시공 | E102: 6820 | G102: 14 | H102: =LEFT(I102,4) -> 1404 | I102: 140402 | J102: =MID(B102,4,50) -> 건설 | K102: =MID(C102,4,50) -> 플랜트 | L102: =MID(D102,4,50) -> 플랜트시공
A103: 140403 | B103: 14. 건설 | C103: 04. 플랜트 | D103: 03. 플랜트사업관리 | E103: 6820 | G103: 14 | H103: =LEFT(I103,4) -> 1404 | I103: 140403 | J103: =MID(B103,4,50) -> 건설 | K103: =MID(C103,4,50) -> 플랜트 | L103: =MID(D103,4,50) -> 플랜트사업관리
A104: 140501 | B104: 14. 건설 | C104: 05. 조경 | D104: 01. 조경 | E104: 6820 | G104: 14 | H104: =LEFT(I104,4) -> 1405 | I104: 140501 | J104: =MID(B104,4,50) -> 건설 | K104: =MID(C104,4,50) -> 조경 | L104: =MID(D104,4,50) -> 조경
A105: 140601 | B105: 14. 건설 | C105: 06. 도시･교통 | D105: 01. 국토･도시계획 | E105: 6820 | G105: 14 | H105: =LEFT(I105,4) -> 1406 | I105: 140601 | J105: =MID(B105,4,50) -> 건설 | K105: =MID(C105,4,50) -> 도시･교통 | L105: =MID(D105,4,50) -> 국토･도시계획
A106: 140602 | B106: 14. 건설 | C106: 06. 도시･교통 | D106: 02. 교통계획･설계 | E106: 6820 | G106: 14 | H106: =LEFT(I106,4) -> 1406 | I106: 140602 | J106: =MID(B106,4,50) -> 건설 | K106: =MID(C106,4,50) -> 도시･교통 | L106: =MID(D106,4,50) -> 교통계획･설계
... A118: 140804 | B118: 14. 건설 | C118: 08. 해양자원 | D118: 04. 해양자원개발･관리 | E118: 7330 | G118: 14 | H118: =LEFT(I118,4) -> 1408 | I118: 140804 | J118: =MID(B118,4,50) -> 건설 | K118: =MID(C118,4,50) -> 해양자원 | L118: =MID(D118,4,50) -> 해양자원개발･관리
A119: 140805 | B119: 14. 건설 | C119: 08. 해양자원 | D119: 05. 잠수 | E119: 6820 | G119: 14 | H119: =LEFT(I119,4) -> 1408 | I119: 140805 | J119: 건설 | K119: 해양자원 | L119: =MID(D119,4,50) -> 잠수
A120: 150101 | B120: 15. 기계 | C120: 01. 기계설계 | D120: 01. 설계기획 | E120: 6530 | G120: 15 | H120: =LEFT(I120,4) -> 1501 | I120: 150101 | J120: =MID(B120,4,50) -> 기계 | K120: =MID(C120,4,50) -> 기계설계 | L120: =MID(D120,4,50) -> 설계기획
A121: 150102 | B121: 15. 기계 | C121: 01. 기계설계 | D121: 02. 기계설계 | E121: 6530 | G121: 15 | H121: =LEFT(I121,4) -> 1501 | I121: 150102 | J121: =MID(B121,4,50) -> 기계 | K121: =MID(C121,4,50) -> 기계설계 | L121: =MID(D121,4,50) -> 기계설계
A122: 150201 | B122: 15. 기계 | C122: 02. 기계가공 | D122: 01. 절삭가공 | E122: 6530 | G122: 15 | H122: =LEFT(I122,4) -> 1502 | I122: 150201 | J122: =MID(B122,4,50) -> 기계 | K122: =MID(C122,4,50) -> 기계가공 | L122: =MID(D122,4,50) -> 절삭가공
A123: 150202 | B123: 15. 기계 | C123: 02. 기계가공 | D123: 02. 특수가공 | E123: 6530 | G123: 15 | H123: =LEFT(I123,4) -> 1502 | I123: 150202 | J123: =MID(B123,4,50) -> 기계 | K123: =MID(C123,4,50) -> 기계가공 | L123: =MID(D123,4,50) -> 특수가공
A124: 150301 | B124: 15. 기계 | C124: 03. 기계조립･관리 | D124: 01. 기계조립 | E124: 6530 | G124: 15 | H124: =LEFT(I124,4) -> 1503 | I124: 150301 | J124: =MID(B124,4,50) -> 기계 | K124: =MID(C124,4,50) -> 기계조립･관리 | L124: =MID(D124,4,50) -> 기계조립
A125: 150302 | B125: 15. 기계 | C125: 03. 기계조립･관리 | D125: 02. 기계생산관리 | E125: 6530 | G125: 15 | H125: =LEFT(I125,4) -> 1503 | I125: 150302 | J125: =MID(B125,4,50) -> 기계 | K125: =MID(C125,4,50) -> 기계조립･관리 | L125: =MID(D125,4,50) -> 기계생산관리
A126: 150401 | B126: 15. 기계 | C126: 04. 기계품질관리 | D126: 01. 기계품질관리 | E126: 6530 | G126: 15 | H126: =LEFT(I126,4) -> 1504 | I126: 150401 | J126: =MID(B126,4,50) -> 기계 | K126: =MID(C126,4,50) -> 기계품질관리 | L126: =MID(D126,4,50) -> 기계품질관리
A127: 150501 | B127: 15. 기계 | C127: 05. 기계장치설치 | D127: 01. 기계장비설치･정비 | E127: 6880 | G127: 15 | H127: =LEFT(I127,4) -> 1505 | I127: 150501 | J127: =MID(B127,4,50) -> 기계 | K127: =MID(C127,4,50) -> 기계장치설치 | L127: =MID(D127,4,50) -> 기계장비설치･정비
A128: 150502 | B128: 15. 기계 | C128: 05. 기계장치설치 | D128: 02. 냉동공조설비 | E128: 7440 | G128: 15 | H128: =LEFT(I128,4) -> 1505 | I128: 150502 | J128: =MID(B128,4,50) -> 기계 | K128: =MID(C128,4,50) -> 기계장치설치 | L128: =MID(D128,4,50) -> 냉동공조설비
A129: 150503 | B129: 15. 기계 | C129: 05. 기계장치설치 | D129: 03. 이륜차정비 | E129: 7160 | G129: 15 | H129: =LEFT(I129,4) -> 1505 | I129: 150503 | J129: =MID(B129,4,50) -> 기계 | K129: =MID(C129,4,50) -> 기계장치설치 | L129: =MID(D129,4,50) -> 이륜차정비
A130: 150601 | B130: 15. 기계 | C130: 06. 자동차 | D130: 01. 자동차설계 | E130: 6530 | G130: 15 | H130: =LEFT(I130,4) -> 1506 | I130: 150601 | J130: =MID(B130,4,50) -> 기계 | K130: =MID(C130,4,50) -> 자동차 | L130: =MID(D130,4,50) -> 자동차설계
A131: 150602 | B131: 15. 기계 | C131: 06. 자동차 | D131: 02. 자동차제작 | E131: 6530 | G131: 15 | H131: =LEFT(I131,4) -> 1506 | I131: 150602 | J131: =MID(B131,4,50) -> 기계 | K131: =MID(C131,4,50) -> 자동차 | L131: =MID(D131,4,50) -> 자동차제작
... A171: 170202 | B171: 17. 화학·바이오 | C171: 02. 석유‧기초 화학물 | D171: 02. 기초유기화학물 | E171: 6620 | G171: 17 | H171: =LEFT(I171,4) -> 1702 | I171: 170202 | J171: =MID(B171,4,50) -> 화학·바이오 | K171: =MID(C171,4,50) -> 석유‧기초 화학물 | L171: =MID(D171,4,50) -> 기초유기화학물
A172: 170203 | B172: 17. 화학·바이오 | C172: 02. 석유‧기초 화학물 | D172: 03. 기초무기화학물 | E172: 6620 | G172: 17 | H172: =LEFT(I172,4) -> 1702 | I172: 170203 | J172: =MID(B172,4,50) -> 화학·바이오 | K172: =MID(C172,4,50) -> 석유‧기초 화학물 | L172: 고무제품제조
A173: 170300 | B173: 17. 화학·바이오 | C173: 03. 정밀화학 | D173: 00. 정밀화학공통 | E173: 6620 | G173: 17 | H173: =LEFT(I173,4) -> 1703 | I173: 170300 | J173: =MID(B173,4,50) -> 화학·바이오 | K173: =MID(C173,4,50) -> 정밀화학 | L173: =MID(D173,4,50) -> 정밀화학공통
A174: 170301 | B174: 17. 화학·바이오 | C174: 03. 정밀화학 | D174: 01. 비료농약 | E174: 6760 | G174: 17 | H174: =LEFT(I174,4) -> 1703 | I174: 170301 | J174: =MID(B174,4,50) -> 화학·바이오 | K174: =MID(C174,4,50) -> 정밀화학 | L174: =MID(D174,4,50) -> 비료농약
A175: 170302 | B175: 17. 화학·바이오 | C175: 03. 정밀화학 | D175: 02. 기능성정밀화학 | E175: 7000 | G175: 17 | H175: =LEFT(I175,4) -> 1703 | I175: 170302 | J175: =MID(B175,4,50) -> 화학·바이오 | K175: =MID(C175,4,50) -> 정밀화학 | L175: =MID(D175,4,50) -> 기능성정밀화학
A176: 170306 | B176: 17. 화학·바이오 | C176: 03. 정밀화학 | D176: 06. 의약품 | E176: 6620 | G176: 17 | H176: =LEFT(I176,4) -> 1703 | I176: 170306 | J176: =MID(B176,4,50) -> 화학·바이오 | K176: =MID(C176,4,50) -> 정밀화학 | L176: =MID(D176,4,50) -> 의약품
A177: 170307 | B177: 17. 화학·바이오 | C177: 03. 정밀화학 | D177: 07. 화장품 | E177: 6620 | G177: 17 | H177: =LEFT(I177,4) -> 1703 | I177: 170307 | J177: =MID(B177,4,50) -> 화학·바이오 | K177: =MID(C177,4,50) -> 정밀화학 | L177: =MID(D177,4,50) -> 화장품
A178: 170401 | B178: 17. 화학·바이오 | C178: 04. 플라스틱, 고무 | D178: 01. 플라스틱 | E178: 7000 | G178: 17 | H178: =LEFT(I178,4) -> 1704 | I178: 170401 | J178: =MID(B178,4,50) -> 화학·바이오 | K178: =MID(C178,4,50) -> 플라스틱, 고무 | L178: =MID(D178,4,50) -> 플라스틱
A179: 170402 | B179: 17. 화학·바이오 | C179: 04. 플라스틱, 고무 | D179: 02. 고무 | E179: 7000 | G179: 17 | H179: =LEFT(I179,4) -> 1704 | I179: 170402 | J179: =MID(B179,4,50) -> 화학·바이오 | K179: =MID(C179,4,50) -> 플라스틱, 고무 | L179: =MID(D179,4,50) -> 고무
A180: 170501 | B180: 17. 화학·바이오 | C180: 05. 바이오 | D180: 01. 바이오의약 | E180: 7000 | G180: 17 | H180: =LEFT(I180,4) -> 1705 | I180: 170501 | J180: =MID(B180,4,50) -> 화학·바이오 | K180: =MID(C180,4,50) -> 바이오 | L180: =MID(D180,4,50) -> 바이오의약
A181: 170502 | B181: 17. 화학·바이오 | C181: 05. 바이오 | D181: 02. 바이오화학 | E181: 7000 | G181: 17 | H181: =LEFT(I181,4) -> 1705 | I181: 170502 | J181: =MID(B181,4,50) -> 화학·바이오 | K181: =MID(C181,4,50) -> 바이오 | L181: =MID(D181,4,50) -> 바이오화학
A182: 170503 | B182: 17. 화학·바이오 | C182: 05. 바이오 | D182: 03. 바이오기술 | E182: 6620 | G182: 17 | H182: =LEFT(I182,4) -> 1705 | I182: 170503 | J182: =MID(B182,4,50) -> 화학·바이오 | K182: =MID(C182,4,50) -> 바이오 | L182: =MID(D182,4,50) -> 바이오기술
A183: 180101 | B183: 18. 섬유･의복 | C183: 01. 섬유제조 | D183: 01. 섬유생산 | E183: 6620 | G183: 18 | H183: =LEFT(I183,4) -> 1801 | I183: 180101 | J183: =MID(B183,4,50) -> 섬유･의복 | K183: =MID(C183,4,50) -> 섬유제조 | L183: =MID(D183,4,50) -> 섬유생산
A184: 180102 | B184: 18. 섬유･의복 | C184: 01. 섬유제조 | D184: 02. 섬유가공 | E184: 6620 | G184: 18 | H184: =LEFT(I184,4) -> 1801 | I184: 180102 | J184: =MID(B184,4,50) -> 섬유･의복 | K184: =MID(C184,4,50) -> 섬유제조 | L184: =MID(D184,4,50) -> 섬유가공
... A236: 200110 | B236: 20. 정보통신 | C236: 01. 정보기술 | D236: 10. 디지털트윈 | E236: 6620 | G236: 20 | H236: =LEFT(I236,4) -> 2001 | I236: 200110 | J236: =MID(B236,4,50) -> 정보통신 | K236: =MID(C236,4,50) -> 정보기술 | L236: =MID(D236,4,50) -> 디지털트윈
A237: 200111 | B237: 20. 정보통신 | C237: 01. 정보기술 | D237: 11. 개인정보보호 | E237: 6700 | G237: 20 | H237: 2001 | I237: 200111 | J237: 정보통신 | K237: 정보기술 | L237: =MID(D237,4,50) -> 개인정보보호
A238: 200201 | B238: 20. 정보통신 | C238: 02. 통신기술 | D238: 01. 유선통신구축 | E238: 6620 | G238: 20 | H238: =LEFT(I238,4) -> 2002 | I238: 200201 | J238: =MID(B238,4,50) -> 정보통신 | K238: =MID(C238,4,50) -> 통신기술 | L238: =MID(D238,4,50) -> 유선통신구축
A239: 200202 | B239: 20. 정보통신 | C239: 02. 통신기술 | D239: 02. 무선통신구축 | E239: 6620 | G239: 20 | H239: =LEFT(I239,4) -> 2002 | I239: 200202 | J239: =MID(B239,4,50) -> 정보통신 | K239: =MID(C239,4,50) -> 통신기술 | L239: =MID(D239,4,50) -> 무선통신구축
A240: 200203 | B240: 20. 정보통신 | C240: 02. 통신기술 | D240: 03. 통신서비스 | E240: 6620 | G240: 20 | H240: =LEFT(I240,4) -> 2002 | I240: 200203 | J240: =MID(B240,4,50) -> 정보통신 | K240: =MID(C240,4,50) -> 통신기술 | L240: =MID(D240,4,50) -> 통신서비스
A241: 200204 | B241: 20. 정보통신 | C241: 02. 통신기술 | D241: 04. 실감형콘텐츠제작 | E241: 6620 | G241: 20 | H241: =LEFT(I241,4) -> 2002 | I241: 200204 | J241: =MID(B241,4,50) -> 정보통신 | K241: =MID(C241,4,50) -> 통신기술 | L241: =MID(D241,4,50) -> 실감형콘텐츠제작
A242: 200301 | B242: 20. 정보통신 | C242: 03. 방송기술 | D242: 01. 방송제작기술 | E242: 6620 | G242: 20 | H242: =LEFT(I242,4) -> 2003 | I242: 200301 | J242: =MID(B242,4,50) -> 정보통신 | K242: =MID(C242,4,50) -> 방송기술 | L242: =MID(D242,4,50) -> 방송제작기술
A243: 200302 | B243: 20. 정보통신 | C243: 03. 방송기술 | D243: 02. 방송플랫폼기술 | E243: 9610 | G243: 20 | H243: =LEFT(I243,4) -> 2003 | I243: 200302 | J243: =MID(B243,4,50) -> 정보통신 | K243: =MID(C243,4,50) -> 방송기술 | L243: =MID(D243,4,50) -> 방송플랫폼기술
A244: 200303 | B244: 20. 정보통신 | C244: 03. 방송기술 | D244: 03. 방송서비스 | E244: 6620 | G244: 20 | H244: =LEFT(I244,4) -> 2003 | I244: 200303 | J244: =MID(B244,4,50) -> 정보통신 | K244: =MID(C244,4,50) -> 방송기술 | L244: =MID(D244,4,50) -> 방송서비스
A245: 210101 | B245: 21. 식품가공 | C245: 01. 식품가공 | D245: 01. 식품가공 | E245: 9830 | G245: 21 | H245: =LEFT(I245,4) -> 2101 | I245: 210101 | J245: =MID(B245,4,50) -> 식품가공 | K245: =MID(C245,4,50) -> 식품가공 | L245: =MID(D245,4,50) -> 식품가공
A246: 210102 | B246: 21. 식품가공 | C246: 01. 식품가공 | D246: 02. 식품저장 | E246: 7180 | G246: 21 | H246: =LEFT(I246,4) -> 2101 | I246: 210102 | J246: =MID(B246,4,50) -> 식품가공 | K246: =MID(C246,4,50) -> 식품가공 | L246: =MID(D246,4,50) -> 식품저장
A247: 210103 | B247: 21. 식품가공 | C247: 01. 식품가공 | D247: 03. 식품유통 | E247: 7180 | G247: 21 | H247: =LEFT(I247,4) -> 2101 | I247: 210103 | J247: =MID(B247,4,50) -> 식품가공 | K247: =MID(C247,4,50) -> 식품가공 | L247: =MID(D247,4,50) -> 식품유통
A248: 210201 | B248: 21. 식품가공 | C248: 02. 제과･제빵･떡제조 | D248: 01. 제과･제빵･떡제조 | E248: 6800 | G248: 21 | H248: =LEFT(I248,4) -> 2102 | I248: 210201 | J248: =MID(B248,4,50) -> 식품가공 | K248: =MID(C248,4,50) -> 제과･제빵･떡제조 | L248: =MID(D248,4,50) -> 제과･제빵･떡제조
A249: 220101 | B249: 22. 인쇄･목재･가구･공예 | C249: 01. 인쇄･출판 | D249: 01. 출판 | E249: 6920 | G249: 22 | H249: =LEFT(I249,4) -> 2201 | I249: 220101 | J249: =MID(B249,4,50) -> 인쇄･목재･가구･공예 | K249: =MID(C249,4,50) -> 인쇄･출판 | L249: =MID(D249,4,50) -> 출판
... A284: 240404 | B284: 24. 농림어업 | C284: 04. 수산 | D284: 04. 어촌개발 | E284: 8260 | G284: 24 | H284: =LEFT(I284,4) -> 2404 | I284: 240404 | J284: =MID(B284,4,50) -> 농림어업 | K284: =MID(C284,4,50) -> 수산 | L284: =MID(D284,4,50) -> 어촌개발
